Workbook

Sheet Apartamento
B1: CONJUNTO RESIDENCIAL PARQUE CENTRAL BONAVISTA 2
B2: NIT: 900.637.542-1
B4: FORMULARIO ACTUALIZACION DE DATOS PARA PROPIETARIOS (UNICAMENTE)
B7: PROPIEDAD | C7: TORRE | D7: 5
C8: APARTAMENTO | D8: 2005
C9: ARRENDADO (SI/NO) | D9: NO
C10: INMOBILIARIA | D10: NO
B11: PROPIETARIO 1 | C11: NOMBRE COMPLETO | D11: WILMER VALERO SOSA
C12: TIPO DOCUMENTO (C.C., T.I.,PS, R.C.) | D12: Cedula de Ciudadania
C13: NUMERO DOCUMENTO | D13: 80056937
C14: EDAD | D14: 38
C15: DIRECCION | D15: KRA 70D SUR #64-38 BL.5 APTO.2005
C16: TELEFONO FIJO | D16: N/A
C17: TELEFONO CELULAR | D17: 3105719964
C18: EMAIL | D18: wival@hotmail.com
C19: TAG | D19: 4755207 | F19: FOTO
C20: PROFESION U OFICIO | D20: Ing. Soporte.
C21: EMPRESA DONDE LABORA | D21: METALTRONICOS SAS.
B23: PARQUEADERO 1 | C23: NUMERO | D23: 160
C24: ARRENDADO (SI/NO) | D24: SI
B25: PARQUEADERO 2 | C25: NUMERO
C26: ARRENDADO (SI/NO)
B27: PARQUEADERO 3 | C27: NUMERO
C28: ARRENDADO (SI/NO)
B29: PARQUEADERO 4 | C29: NUMERO
C30: ARRENDADO (SI/NO)
B31: PARQUEADERO 5 | C31: NUMERO
C32: ARRENDADO (SI/NO)
B34: PROPIETARIO 2 | C34: NOMBRE COMPLETO | D34: DIANA CAROLINA MORENO GUASCA
C35: TIPO DOCUMENTO (C.C., T.I.,PS, R.C.) | D35: Cedula de Ciudadania
C36: NUMERO DOCUMENTO | D36: 52868207
C37: EDAD | D37: 36
C38: DIRECCION | D38: KRA 70D SUR #64-38 BL.5 APTO.2005
C39: TELEFONO FIJO | D39: N/A
C40: TELEFONO CELULAR | D40: 3204228410
C41: EMAIL | D41: dmoreno516@hotmail.com
C42: TAG | D42: 3634354 | F42: FOTO
C43: PROFESION U OFICIO | D43: LICENCIADA EDUCACION BASICA
C44: EMPRESA DONDE LABORA | D44: IRON MOUNTAIN DE COLOMBIA SAS
B46: PROPIETARIO 3 | C46: NOMBRE COMPLETO
...

Sheet Aptopdf
B4: FORMATO DE COPROPIETARIOS
B6: PROPIEDAD | C6: TORRE
C7: APARTAMENTO
C8: ARRENDADO
C9: INMOBILIARIA
B11: PROPIETARIO 1 | C11: NOMBRE
C12: TIPO DOCUMENTO
C13: NUMERO DOCUMENTO
C14: EDAD
C15: DIRECCION
C16: TELEFONO
C17: TELEFONO CELULAR
C18: EMAIL
C19: TAG
C20: PROFESION U OFICIO
C21: EMPRESA
B23: PROPIETARIO 2 | C23: NOMBRE
C24: TIPO DOCUMENTO
C25: NUMERO DOCUMENTO
C26: EDAD
C27: DIRECCION
C28: TELEFONO
C29: TELEFONO CELULAR
C30: EMAIL
C31: TAG
C32: PROFESION U OFICIO
C33: EMPRESA
B35: PROPIETARIO 3 | C35: NOMBRE
C36: TIPO DOCUMENTO
C37: NUMERO DOCUMENTO
C38: EDAD
C39: DIRECCION
C40: TELEFONO
C41: TELEFONO CELULAR
C42: EMAIL
C43: TAG
C44: PROFESION U OFICIO
C45: EMPRESA
B62: PARQUEADERO 1 | C62: NUMERO
C63: ARRENDADO
...

Sheet Residentes
B1: CONJUNTO RESIDENCIAL PARQUE CENTRAL BONAVISTA 2
B2: NIT: 900.637.542-1
B4: FORMULARIO ACTUALIZACION DE DATOS RESIDENTES (DILIGENCIE UN CUADRO DE RESIDENTE, POR CADA UNO DE LOS HABITANTES DEL APARTAMENTO)
B6: IMPORTANTE : PARA LA CITOFONIA VIRTUAL, USTED TIENE LA OPCION DE REGISTRAR HASTA CINCO (5) NUMEROS TELEFONICOS, A LOS CUALES DEBE DAR ORDEN DE PRIORIDAD DE LLAMADO ASI: 1,2,3,4,5 | F6: PRIORIDAD LLAMADO CITOFONIA
B9: Residente 1 | C9: NOMBRE COMPLETO | D9: WILMER VALERO SOSA
C10: TIPO DOCUMENTO (C.C., T.I.,PS, R.C.) | D10: Cedula de Ciudadania
C11: NUMERO DOCUMENTO | D11: 80056937
C12: EDAD | D12: 38
C13: TELEFONO FIJO | D13: 3143151010 | F13: 4
C14: TELEFONO CELULAR | D14: 3105719964 | F14: 1
C15: EMAIL | D15: wival@hotmail.com
C16: TAG | D16: 4755207 | H16: FOTO
C17: PROFESION U OFICIO | D17: Ing. Soporte.
C18: EMPRESA DONDE LABORA | D18: METALTRONICOS SAS.
B20: Residente 2 | C20: NOMBRE COMPLETO | D20: DIANA CAROLINA MORENO GUASCA
C21: TIPO DOCUMENTO (C.C., T.I.,PS, R.C.) | D21: Cedula de Ciudadania
C22: NUMERO DOCUMENTO | D22: 52868207
C23: EDAD | D23: 36
C24: TELEFONO FIJO
C25: TELEFONO CELULAR | D25: 3204228410 | F25: 2
C26: EMAIL | D26: dmoreno516@hotmail.com
C27: TAG | D27: 3634354 | H27: FOTO
C28: PROFESION U OFICIO | D28: LICENCIADA EDUCACION BASICA
C29: EMPRESA DONDE LABORA | D29: IRON MOUNTAIN DE COLOMBIA SAS
B31: Residente 3 | C31: NOMBRE COMPLETO | D31: FREDESMINDA GUASCA GUASCA
C32: TIPO DOCUMENTO (C.C., T.I.,PS, R.C.) | D32: Cedula de Ciudadania
C33: NUMERO DOCUMENTO | D33: 39613743
C34: EDAD | D34: 55
C35: TELEFONO FIJO
C36: TELEFONO CELULAR | D36: 3138526783 | F36: 3
C37: EMAIL
C38: TAG | D38: 6950005 | H38: FOTO
C39: PROFESION U OFICIO | D39: AMA DE CASA
C40: EMPRESA DONDE LABORA
B42: Residente 4 | C42: NOMBRE COMPLETO | D42: SOFIA VALERO MORENO
C43: TIPO DOCUMENTO (C.C., T.I.,PS, R.C.) | D43: Registro Civil
C44: NUMERO DOCUMENTO | D44: 1028496992
C45: EDAD | D45: 6
C46: TELEFONO FIJO | D46: N/A
C47: TELEFONO CELULAR | D47: N/A
...

Sheet Residente
B2: RESIDENTE 1 | C2: NOMBRE
C3: TIPO DOCUMENTO | D3: Cedula de Ciudadania
C4: NUMERO DOCUMENTO
C5: EDAD
C6: TELEFONO
C7: TAG
H8: FOTO
B9: RESIDENTE 2 | C9: NOMBRE
C10: TIPO DOCUMENTO | D10: Cedula de Ciudadania
C11: NUMERO DOCUMENTO
C12: EDAD
C13: TELEFONO
C14: TAG
B16: RESIDENTE 3 | C16: NOMBRE
C17: TIPO DOCUMENTO | D17: Cedula de Ciudadania
C18: NUMERO DOCUMENTO
C19: EDAD
C20: TELEFONO
C21: TAG
B23: RESIDENTE 4 | C23: NOMBRE
C24: TIPO DOCUMENTO | D24: Cedula de Ciudadania
C25: NUMERO DOCUMENTO
C26: EDAD
C27: TELEFONO
C28: TAG
B30: RESIDENTE 5 | C30: NOMBRE
C31: TIPO DOCUMENTO | D31: Cedula de Ciudadania
C32: NUMERO DOCUMENTO
C33: EDAD
C34: TELEFONO
C35: TAG
B37: RESIDENTE 6 | C37: NOMBRE
C38: TIPO DOCUMENTO | D38: Cedula de Ciudadania
C39: NUMERO DOCUMENTO
C40: EDAD
C41: TELEFONO
C42: TAG

Sheet Resipdf
B1: FORMATO RESIDENTES
B3: Residente 1 | C3: NOMBRE
C4: TIPO DOCUMENTO
C5: NUMERO DOCUMENTO
C6: EDAD
C7: TELEFONO
C8: TELEFONO CELULAR
C9: EMAIL
C10: TAG
C11: PROFESION U OFICIO
C12: EMPRESA
B14: Residente 2 | C14: NOMBRE
C15: TIPO DOCUMENTO
C16: NUMERO DOCUMENTO
C17: EDAD
C18: TELEFONO
C19: TELEFONO CELULAR
C20: EMAIL
C21: TAG
C22: PROFESION U OFICIO
C23: EMPRESA
B25: Residente 3 | C25: NOMBRE
C26: TIPO DOCUMENTO
C27: NUMERO DOCUMENTO
C28: EDAD
C29: TELEFONO
C30: TELEFONO CELULAR
C31: EMAIL
C32: TAG
C33: PROFESION U OFICIO
C34: EMPRESA
B36: Residente 4 | C36: NOMBRE
C37: TIPO DOCUMENTO
C38: NUMERO DOCUMENTO
C39: EDAD
C40: TELEFONO
C41: TELEFONO CELULAR
C42: EMAIL
C43: TAG
C44: PROFESION U OFICIO
...

Sheet Parq1 Veh.
A1: CONJUNTO RESIDENCIAL PARQUE CENTRAL BONAVISTA 2
A2: NIT: 900.637.542-1
A4: FORMULARIO ACTUALIZACION DE DATOS VEHICULOS (DILIGENCIAR POR CADA PARQUEADERO QUE TENGA O UTILICE, UNO DE ESTOS FORMULARIOS)
A5: PARQUEADERO 1
A7: Vehiculo 1 | B7: TIPO DE VEHICULO (carro/moto) | C7: Moto
B8: PLACAS | C8: QTK 06C
B9: MARCA | C9: YAMAHA
B10: MODELO | C10: 2012
B11: COLOR | C11: AZUL
B12: NOMBRE DEL PROPIETARIO DEL VEHICULO | C12: MIGUEL ANGEL GUZMAN RODRIGUEZ
B13: DOCUMENTO DE IDENTIFICACION | C13: 80795886
B14: TELEFONO DE CONTACTO 1 | C14: 3112000061
B15: TELEFONO DE CONTACTO 2 | C15: N/A
B16: E- MAIL | C16: N/A
B17: SOAT POLIZA No | C17: AT1329 38758760 5
B18: FECHA VENCIMIENTO SOAT (dd/mm/aa) | C18: 43550
B19: REVISON TECNOMECANICA (SI/NO) | C19: Si
B20: FECHA VENCIMIENTO REV. TECNOMEC. (dd/mm/aa) | C20: 43573
A22: Vehiculo 2 | B22: TIPO DE VEHICULO (carro/moto) | C22: Carro
B23: PLACAS | C23: WHS 203
B24: MARCA | C24: RENAULT
B25: MODELO | C25: 2015
B26: COLOR | C26: AMARILLO LIMA
B27: NOMBRE DEL PROPIETARIO DEL VEHICULO | C27: NORBERTO BELLO GONZALES
B28: DOCUMENTO DE IDENTIFICACION | C28: 19159824
B29: TELEFONO DE CONTACTO 1 | C29: 3124027888
B30: TELEFONO DE CONTACTO 2
B31: E- MAIL | C31: helmanmcc29@gmail.com
B32: SOAT POLIZA No | C32: AT1329 37701567 1
B33: FECHA VENCIMIENTO SOAT (dd/mm/aa) | C33: 43393
B34: REVISON TECNOMECANICA (SI/NO) | C34: Si
B35: FECHA VENCIMIENTO REV. TECNOMEC. (dd/mm/aa) | C35: 43394
A37: Vehiculo 3 | B37: TIPO DE VEHICULO (carro/moto)
B38: PLACAS
B39: MARCA
B40: MODELO
B41: COLOR
B42: NOMBRE DEL PROPIETARIO DEL VEHICULO
B43: DOCUMENTO DE IDENTIFICACION
B44: TELEFONO DE CONTACTO 1
...

Sheet Parqpdf
B1: PARQUEADERO NUMERO:
B3: Vehiculo 1 | C3: TIPO DE VEHICULO
C4: MARCA
C5: MODELO
C6: COLOR
C7: NOMBRE PROPIETARIO DEL VEHICULO
C8: DOCUMENTO DE IDENTIFICACION
C9: TELEFONO DE CONTACTO 1
C10: TELEFONO DE CONTACTO 2
C11: E- MAIL
C12: SOAT
B14: Vehiculo 2 | C14: TIPO DE VEHICULO
C15: MARCA
C16: MODELO
C17: COLOR
C18: NOMBRE PROPIETARIO DEL VEHICULO
C19: DOCUMENTO DE IDENTIFICACION
C20: TELEFONO DE CONTACTO 1
C21: TELEFONO DE CONTACTO 2
C22: E- MAIL
C23: SOAT
B25: Vehiculo 3 | C25: TIPO DE VEHICULO
C26: MARCA
C27: MODELO
C28: COLOR
C29: NOMBRE PROPIETARIO DEL VEHICULO
C30: DOCUMENTO DE IDENTIFICACION
C31: TELEFONO DE CONTACTO 1
C32: TELEFONO DE CONTACTO 2
C33: E- MAIL
C34: SOAT
B36: Vehiculo 4 | C36: TIPO DE VEHICULO
C37: MARCA
C38: MODELO
C39: COLOR
C40: NOMBRE PROPIETARIO DEL VEHICULO
C41: DOCUMENTO DE IDENTIFICACION
C42: TELEFONO DE CONTACTO 1
C43: TELEFONO DE CONTACTO 2
C44: E- MAIL
...

Sheet Parq.2 Veh
A1: CONJUNTO RESIDENCIAL PARQUE CENTRAL BONAVISTA 2
A2: NIT: 900.637.542-1
A4: FORMULARIO ACTUALIZACION DE DATOS VEHICULOS (DILIGENCIAR POR CADA PARQUEADERO QUE TENGA O UTILICE, UNO DE ESTOS FORMULARIOS)
A5: PARQUEADERO 2
A7: Vehiculo 1 | B7: TIPO DE VEHICULO (carro/moto)
B8: PLACAS
B9: MARCA
B10: MODELO
B11: COLOR
B12: NOMBRE DEL PROPIETARIO DEL VEHICULO
B13: DOCUMENTO DE IDENTIFICACION
B14: TELEFONO DE CONTACTO 1
B15: TELEFONO DE CONTACTO 2
B16: E- MAIL
B17: SOAT POLIZA No
B18: FECHA VENCIMIENTO SOAT (dd/mm/aa)
B19: REVISON TECNOMECANICA (SI/NO)
B20: FECHA VENCIMIENTO REV. TECNOMEC. (dd/mm/aa)
A22: Vehiculo 2 | B22: TIPO DE VEHICULO (carro/moto)
B23: PLACAS
B24: MARCA
B25: MODELO
B26: COLOR
B27: NOMBRE DEL PROPIETARIO DEL VEHICULO
B28: DOCUMENTO DE IDENTIFICACION
B29: TELEFONO DE CONTACTO 1
B30: TELEFONO DE CONTACTO 2
B31: E- MAIL
B32: SOAT POLIZA No
B33: FECHA VENCIMIENTO SOAT (dd/mm/aa)
B34: REVISON TECNOMECANICA (SI/NO)
B35: FECHA VENCIMIENTO REV. TECNOMEC. (dd/mm/aa)
A37: Vehiculo 3 | B37: TIPO DE VEHICULO (carro/moto)
B38: PLACAS
B39: MARCA
B40: MODELO
B41: COLOR
B42: NOMBRE DEL PROPIETARIO DEL VEHICULO
B43: DOCUMENTO DE IDENTIFICACION
B44: TELEFONO DE CONTACTO 1
...

Sheet Parq.3 Veh
A1: CONJUNTO RESIDENCIAL PARQUE CENTRAL BONAVISTA 2
A2: NIT: 900.637.542-1
A4: FORMULARIO ACTUALIZACION DE DATOS VEHICULOS (DILIGENCIAR POR CADA PARQUEADERO QUE TENGA O UTILICE, UNO DE ESTOS FORMULARIOS)
A5: PARQUEADERO 3
A7: Vehiculo 1 | B7: TIPO DE VEHICULO (carro/moto)
B8: PLACAS
B9: MARCA
B10: MODELO
B11: COLOR
B12: NOMBRE DEL PROPIETARIO DEL VEHICULO
B13: DOCUMENTO DE IDENTIFICACION
B14: TELEFONO DE CONTACTO 1
B15: TELEFONO DE CONTACTO 2
B16: E- MAIL
B17: SOAT POLIZA No
B18: FECHA VENCIMIENTO SOAT (dd/mm/aa)
B19: REVISON TECNOMECANICA (SI/NO)
B20: FECHA VENCIMIENTO REV. TECNOMEC. (dd/mm/aa)
A22: Vehiculo 2 | B22: TIPO DE VEHICULO (carro/moto)
B23: PLACAS
B24: MARCA
B25: MODELO
B26: COLOR
B27: NOMBRE DEL PROPIETARIO DEL VEHICULO
B28: DOCUMENTO DE IDENTIFICACION
B29: TELEFONO DE CONTACTO 1
B30: TELEFONO DE CONTACTO 2
B31: E- MAIL
B32: SOAT POLIZA No
B33: FECHA VENCIMIENTO SOAT (dd/mm/aa)
B34: REVISON TECNOMECANICA (SI/NO)
B35: FECHA VENCIMIENTO REV. TECNOMEC. (dd/mm/aa)
A37: Vehiculo 3 | B37: TIPO DE VEHICULO (carro/moto)
B38: PLACAS
B39: MARCA
B40: MODELO
B41: COLOR
B42: NOMBRE DEL PROPIETARIO DEL VEHICULO
B43: DOCUMENTO DE IDENTIFICACION
B44: TELEFONO DE CONTACTO 1
...

Sheet Cons Prop.
A1: PROPIEDAD | E1: PROPIETARIO
A2: TORRE | B2: APTO | C2: ARRENDADO | D2: INMOBILIARIA | E2: NOMBRE COMPLETO | F2: TIPO DOCUMENTO | G2: NUMERO DOCUMENTO | H2: EDAD | I2: DIRECCION | J2: TELEFONO | K2: CELULAR | L2: EMAIL | M2: TAG | N2: PROFESION U OFICIO | O2: EMPRESA DONDE LABORA
A3: =Apartamento!D7 -> 5 | B3: =Apartamento!D8 -> 2005 | C3: =Apartamento!D9 -> NO | D3: =Apartamento!D10 -> NO | E3: =Apartamento!D11 -> WILMER VALERO SOSA | F3: =Apartamento!D12 -> Cedula de Ciudadania | G3: =Apartamento!D13 -> 80056937 | H3: =Apartamento!D14 -> 38 | I3: =Apartamento!D15 -> KRA 70D SUR #64-38 BL.5 APTO.2005 | J3: =Apartamento!D16 -> N/A | K3: =Apartamento!D17 -> 3105719964 | L3: =Apartamento!D18 -> wival@hotmail.com | M3: =Apartamento!D19 -> 4755207 | N3: =Apartamento!D20 -> Ing. Soporte. | O3: =Apartamento!D21 -> METALTRONICOS SAS.
A4: =Apartamento!$D$7 -> 5 | B4: =Apartamento!$D$8 -> 2005 | C4: =Apartamento!$D$9 -> NO | D4: =Apartamento!$D$10 -> NO | E4: =Apartamento!D34 -> DIANA CAROLINA MORENO GUASCA | F4: =Apartamento!D35 -> Cedula de Ciudadania | G4: =Apartamento!D36 -> 52868207 | H4: =Apartamento!D37 -> 36 | I4: =Apartamento!D38 -> KRA 70D SUR #64-38 BL.5 APTO.2005 | J4: =Apartamento!D39 -> N/A | K4: =Apartamento!D40 -> 3204228410 | L4: =Apartamento!D41 -> dmoreno516@hotmail.com | M4: =Apartamento!D42 -> 3634354 | N4: =Apartamento!D43 -> LICENCIADA EDUCACION BASICA | O4: =Apartamento!D44 -> IRON MOUNTAIN DE COLOMBIA SAS
A5: =Apartamento!$D$7 -> 5 | B5: =Apartamento!$D$8 -> 2005 | C5: =Apartamento!$D$9 -> NO | D5: =Apartamento!$D$10 -> NO | E5: =Apartamento!$D46 -> 0 | F5: =Apartamento!$D47 -> 0 | G5: =Apartamento!$D48 -> 0 | H5: =Apartamento!$D49 -> 0 | I5: =Apartamento!$D50 -> 0 | J5: =Apartamento!$D51 -> 0 | K5: =Apartamento!$D52 -> 0 | L5: =Apartamento!$D53 -> 0 | M5: =Apartamento!$D54 -> 0 | N5: =Apartamento!$D55 -> 0 | O5: =Apartamento!$D56 -> 0

Sheet Cons Resi.
A1: PROPIEDAD | C1: RESIDENTE
A2: TORRE | B2: APTO | C2: NOMBRE COMPLETO | D2: TIPO DOCUMENTO | E2: NUMERO DOCUMENTO | F2: EDAD | G2: TELEFONO | H2: CELULAR | I2: EMAIL | J2: TAG | K2: PROFESION U OFICIO | L2: EMPRESA DONDE LABORA
A3: =Apartamento!$D$7 -> 5 | B3: =Apartamento!$D$8 -> 2005 | C3: =Residentes!$D9 -> WILMER VALERO SOSA | D3: =Residentes!$D10 -> Cedula de Ciudadania | E3: =Residentes!$D11 -> 80056937 | F3: =Residentes!$D12 -> 38 | G3: =Residentes!$D13 -> 3143151010 | H3: =Residentes!$D14 -> 3105719964 | I3: =Residentes!$D15 -> wival@hotmail.com | J3: =Residentes!$D16 -> 4755207 | K3: =Residentes!$D17 -> Ing. Soporte. | L3: =Residentes!$D18 -> METALTRONICOS SAS.
A4: =Apartamento!$D$7 -> 5 | B4: =Apartamento!$D$8 -> 2005 | C4: =Residentes!$D20 -> DIANA CAROLINA MORENO GUASCA | D4: =Residentes!$D21 -> Cedula de Ciudadania | E4: =Residentes!$D22 -> 52868207 | F4: =Residentes!$D23 -> 36 | G4: =Residentes!$D24 -> 0 | H4: =Residentes!$D25 -> 3204228410 | I4: =Residentes!$D26 -> dmoreno516@hotmail.com | J4: =Residentes!$D27 -> 3634354 | K4: =Residentes!$D28 -> LICENCIADA EDUCACION BASICA | L4: =Residentes!$D29 -> IRON MOUNTAIN DE COLOMBIA SAS
A5: =Apartamento!$D$7 -> 5 | B5: =Apartamento!$D$8 -> 2005 | C5: =Residentes!$D31 -> FREDESMINDA GUASCA GUASCA | D5: =Residentes!$D32 -> Cedula de Ciudadania | E5: =Residentes!$D33 -> 39613743 | F5: =Residentes!$D34 -> 55 | G5: =Residentes!$D35 -> 0 | H5: =Residentes!$D36 -> 3138526783 | I5: =Residentes!$D37 -> 0 | J5: =Residentes!$D38 -> 6950005 | K5: =Residentes!$D39 -> AMA DE CASA | L5: =Residentes!$D40 -> 0
A6: =Apartamento!$D$7 -> 5 | B6: =Apartamento!$D$8 -> 2005 | C6: =Residentes!$D42 -> SOFIA VALERO MORENO | D6: =Residentes!$D43 -> Registro Civil | E6: =Residentes!$D44 -> 1028496992 | F6: =Residentes!$D45 -> 6 | G6: =Residentes!$D46 -> N/A | H6: =Residentes!$D47 -> N/A | I6: =Residentes!$D48 -> N/A | J6: =Residentes!$D49 -> N/A | K6: =Residentes!$D50 -> N/A | L6: =Residentes!$D51 -> N/A
A7: =Apartamento!$D$7 -> 5 | B7: =Apartamento!$D$8 -> 2005 | C7: =Residentes!$D53 -> SANTIAGO VALERO MORENO | D7: =Residentes!$D54 -> Registro Civil | E7: =Residentes!$D55 -> 1222214076 | F7: =Residentes!$D56 -> 2 | G7: =Residentes!$D57 -> N/A | H7: =Residentes!$D58 -> N/A | I7: =Residentes!$D59 -> N/A | J7: =Residentes!$D60 -> N/A | K7: =Residentes!$D61 -> N/A | L7: =Residentes!$D62 -> N/A
A8: =Apartamento!$D$7 -> 5 | B8: =Apartamento!$D$8 -> 2005 | C8: =Residentes!$D64 -> 0 | D8: =Residentes!$D65 -> 0 | E8: =Residentes!$D66 -> 0 | F8: =Residentes!$D67 -> 0 | G8: =Residentes!$D68 -> 0 | H8: =Residentes!$D69 -> 0 | I8: =Residentes!$D70 -> 0 | J8: =Residentes!$D71 -> 0 | K8: =Residentes!$D72 -> 0 | L8: =Residentes!$D73 -> 0
A9: =Apartamento!$D$7 -> 5 | B9: =Apartamento!$D$8 -> 2005 | C9: =Residentes!$D75 -> 0 | D9: =Residentes!$D76 -> 0 | E9: =Residentes!$D77 -> 0 | F9: =Residentes!$D78 -> 0 | G9: =Residentes!$D79 -> 0 | H9: =Residentes!$D80 -> 0 | I9: =Residentes!$D81 -> 0 | J9: =Residentes!$D82 -> 0 | K9: =Residentes!$D83 -> 0 | L9: =Residentes!$D84 -> 0

Sheet Cons Vehi.
A1: PROPIEDAD
A2: TORRE | B2: APTO | C2: # PARQUEADERO | D2: ARRENDADO | E2: TIPO DE VEHICULO | F2: PLACA | G2: MARCA | H2: MODELO | I2: COLOR | J2: NOMBRE DEL PROPIETARIO DEL VEHICULO | K2: DOC DE IDENTIFICACION | L2: TEL CONTACTO 1 | M2: TEL CONTACTO 2 | N2: E- MAIL | O2: No. SOAT POLIZA | P2: FECHA VENCIMIENTO SOAT | Q2: REVISION TECNOMECANICA | R2: FECHA VENCIMIENTO RV. TECNOMEC
A3: =Apartamento!$D$7 -> 5 | B3: =Apartamento!$D$8 -> 2005 | C3: =Apartamento!$D$23 -> 160 | D3: =Apartamento!$D$24 -> SI | E3: ='Parq1 Veh.'!C7 -> Moto | F3: ='Parq1 Veh.'!C8 -> QTK 06C | G3: ='Parq1 Veh.'!C9 -> YAMAHA | H3: ='Parq1 Veh.'!C10 -> 2012 | I3: ='Parq1 Veh.'!C11 -> AZUL | J3: ='Parq1 Veh.'!C12 -> MIGUEL ANGEL GUZMAN RODRIGUEZ | K3: ='Parq1 Veh.'!C13 -> 80795886 | L3: ='Parq1 Veh.'!C14 -> 3112000061 | M3: ='Parq1 Veh.'!C15 -> N/A | N3: ='Parq1 Veh.'!C16 -> N/A | O3: ='Parq1 Veh.'!C17 -> AT1329 38758760 5 | P3: ='Parq1 Veh.'!C18 -> 43550 | Q3: ='Parq1 Veh.'!C19 -> Si | R3: ='Parq1 Veh.'!C20 -> 43573
A4: =Apartamento!$D$7 -> 5 | B4: =Apartamento!$D$8 -> 2005 | C4: =Apartamento!$D$23 -> 160 | D4: =Apartamento!$D$24 -> SI | E4: ='Parq1 Veh.'!C22 -> Carro | F4: ='Parq1 Veh.'!C23 -> WHS 203 | G4: ='Parq1 Veh.'!C24 -> RENAULT | H4: ='Parq1 Veh.'!C25 -> 2015 | I4: ='Parq1 Veh.'!C26 -> AMARILLO LIMA | J4: ='Parq1 Veh.'!C27 -> NORBERTO BELLO GONZALES | K4: ='Parq1 Veh.'!C28 -> 19159824 | L4: ='Parq1 Veh.'!C29 -> 3124027888 | M4: ='Parq1 Veh.'!C30 -> 0 | N4: ='Parq1 Veh.'!C31 -> helmanmcc29@gmail.com | O4: ='Parq1 Veh.'!C32 -> AT1329 37701567 1 | P4: ='Parq1 Veh.'!C33 -> 43393 | Q4: ='Parq1 Veh.'!C34 -> Si | R4: ='Parq1 Veh.'!C35 -> 43394
A5: =Apartamento!$D$7 -> 5 | B5: =Apartamento!$D$8 -> 2005 | C5: =Apartamento!$D$23 -> 160 | D5: =Apartamento!$D$24 -> SI | E5: ='Parq1 Veh.'!C37 -> 0 | F5: ='Parq1 Veh.'!C38 -> 0 | G5: ='Parq1 Veh.'!C39 -> 0 | H5: ='Parq1 Veh.'!C40 -> 0 | I5: ='Parq1 Veh.'!C41 -> 0 | J5: ='Parq1 Veh.'!C42 -> 0 | K5: ='Parq1 Veh.'!C43 -> 0 | L5: ='Parq1 Veh.'!C44 -> 0 | M5: ='Parq1 Veh.'!C45 -> 0 | N5: ='Parq1 Veh.'!C46 -> 0 | O5: ='Parq1 Veh.'!C47 -> 0 | P5: ='Parq1 Veh.'!C48 -> 0 | Q5: ='Parq1 Veh.'!C49 -> 0 | R5: ='Parq1 Veh.'!C50 -> 0
A6: =Apartamento!$D$7 -> 5 | B6: =Apartamento!$D$8 -> 2005 | C6: =Apartamento!$D$23 -> 160 | D6: =Apartamento!$D$24 -> SI | E6: ='Parq1 Veh.'!C52 -> 0 | F6: ='Parq1 Veh.'!C53 -> 0 | G6: ='Parq1 Veh.'!C54 -> 0 | H6: ='Parq1 Veh.'!C55 -> 0 | I6: ='Parq1 Veh.'!C56 -> 0 | J6: ='Parq1 Veh.'!C57 -> 0 | K6: ='Parq1 Veh.'!C58 -> 0 | L6: ='Parq1 Veh.'!C59 -> 0 | M6: ='Parq1 Veh.'!C60 -> 0 | N6: ='Parq1 Veh.'!C61 -> 0 | O6: ='Parq1 Veh.'!C62 -> 0 | P6: ='Parq1 Veh.'!C63 -> 0 | Q6: ='Parq1 Veh.'!C64 -> 0 | R6: ='Parq1 Veh.'!C65 -> 0
A7: =Apartamento!$D$7 -> 5 | B7: =Apartamento!$D$8 -> 2005 | C7: =Apartamento!$D$25 -> 0 | D7: =Apartamento!$D$26 -> 0 | E7: ='Parq.2 Veh'!C7 -> 0 | F7: ='Parq.2 Veh'!C8 -> 0 | G7: ='Parq.2 Veh'!C9 -> 0 | H7: ='Parq.2 Veh'!C10 -> 0 | I7: ='Parq.2 Veh'!C11 -> 0 | J7: ='Parq.2 Veh'!C12 -> 0 | K7: ='Parq.2 Veh'!C13 -> 0 | L7: ='Parq.2 Veh'!C14 -> 0 | M7: ='Parq.2 Veh'!C15 -> 0 | N7: ='Parq.2 Veh'!C16 -> 0 | O7: ='Parq.2 Veh'!C17 -> 0 | P7: ='Parq.2 Veh'!C18 -> 0 | Q7: ='Parq.2 Veh'!C19 -> 0 | R7: ='Parq.2 Veh'!C20 -> 0
A8: =Apartamento!$D$7 -> 5 | B8: =Apartamento!$D$8 -> 2005 | C8: =Apartamento!$D$25 -> 0 | D8: =Apartamento!$D$26 -> 0 | E8: ='Parq.2 Veh'!C22 -> 0 | F8: ='Parq.2 Veh'!C23 -> 0 | G8: ='Parq.2 Veh'!C24 -> 0 | H8: ='Parq.2 Veh'!C25 -> 0 | I8: ='Parq.2 Veh'!C26 -> 0 | J8: ='Parq.2 Veh'!C27 -> 0 | K8: ='Parq.2 Veh'!C28 -> 0 | L8: ='Parq.2 Veh'!C29 -> 0 | M8: ='Parq.2 Veh'!C30 -> 0 | N8: ='Parq.2 Veh'!C31 -> 0 | O8: ='Parq.2 Veh'!C32 -> 0 | P8: ='Parq.2 Veh'!C33 -> 0 | Q8: ='Parq.2 Veh'!C34 -> 0 | R8: ='Parq.2 Veh'!C35 -> 0
A9: =Apartamento!$D$7 -> 5 | B9: =Apartamento!$D$8 -> 2005 | C9: =Apartamento!$D$25 -> 0 | D9: =Apartamento!$D$26 -> 0 | E9: ='Parq.2 Veh'!C37 -> 0 | F9: ='Parq.2 Veh'!C38 -> 0 | G9: ='Parq.2 Veh'!C39 -> 0 | H9: ='Parq.2 Veh'!C40 -> 0 | I9: ='Parq.2 Veh'!C41 -> 0 | J9: ='Parq.2 Veh'!C42 -> 0 | K9: ='Parq.2 Veh'!C43 -> 0 | L9: ='Parq.2 Veh'!C44 -> 0 | M9: ='Parq.2 Veh'!C45 -> 0 | N9: ='Parq.2 Veh'!C46 -> 0 | O9: ='Parq.2 Veh'!C47 -> 0 | P9: ='Parq.2 Veh'!C48 -> 0 | Q9: ='Parq.2 Veh'!C49 -> 0 | R9: ='Parq.2 Veh'!C50 -> 0
A10: =Apartamento!$D$7 -> 5 | B10: =Apartamento!$D$8 -> 2005 | C10: =Apartamento!$D$25 -> 0 | D10: =Apartamento!$D$26 -> 0 | E10: ='Parq.2 Veh'!C52 -> 0 | F10: ='Parq.2 Veh'!C53 -> 0 | G10: ='Parq.2 Veh'!C54 -> 0 | H10: ='Parq.2 Veh'!C55 -> 0 | I10: ='Parq.2 Veh'!C56 -> 0 | J10: ='Parq.2 Veh'!C57 -> 0 | K10: ='Parq.2 Veh'!C58 -> 0 | L10: ='Parq.2 Veh'!C59 -> 0 | M10: ='Parq.2 Veh'!C60 -> 0 | N10: ='Parq.2 Veh'!C61 -> 0 | O10: ='Parq.2 Veh'!C62 -> 0 | P10: ='Parq.2 Veh'!C63 -> 0 | Q10: ='Parq.2 Veh'!C64 -> 0 | R10: ='Parq.2 Veh'!C65 -> 0
A11: =Apartamento!$D$7 -> 5 | B11: =Apartamento!$D$8 -> 2005 | C11: =Apartamento!$D$27 -> 0 | D11: =Apartamento!$D$28 -> 0 | E11: ='Parq.3 Veh'!C7 -> 0 | F11: ='Parq.3 Veh'!C8 -> 0 | G11: ='Parq.3 Veh'!C9 -> 0 | H11: ='Parq.3 Veh'!C10 -> 0 | I11: ='Parq.3 Veh'!C11 -> 0 | J11: ='Parq.3 Veh'!C12 -> 0 | K11: ='Parq.3 Veh'!C13 -> 0 | L11: ='Parq.3 Veh'!C14 -> 0 | M11: ='Parq.3 Veh'!C15 -> 0 | N11: ='Parq.3 Veh'!C16 -> 0 | O11: ='Parq.3 Veh'!C17 -> 0 | P11: ='Parq.3 Veh'!C18 -> 0 | Q11: ='Parq.3 Veh'!C19 -> 0 | R11: ='Parq.3 Veh'!C20 -> 0
A12: =Apartamento!$D$7 -> 5 | B12: =Apartamento!$D$8 -> 2005 | C12: =Apartamento!$D$27 -> 0 | D12: =Apartamento!$D$28 -> 0 | E12: ='Parq.3 Veh'!C22 -> 0 | F12: ='Parq.3 Veh'!C23 -> 0 | G12: ='Parq.3 Veh'!C24 -> 0 | H12: ='Parq.3 Veh'!C25 -> 0 | I12: ='Parq.3 Veh'!C26 -> 0 | J12: ='Parq.3 Veh'!C27 -> 0 | K12: ='Parq.3 Veh'!C28 -> 0 | L12: ='Parq.3 Veh'!C29 -> 0 | M12: ='Parq.3 Veh'!C30 -> 0 | N12: ='Parq.3 Veh'!C31 -> 0 | O12: ='Parq.3 Veh'!C32 -> 0 | P12: ='Parq.3 Veh'!C33 -> 0 | Q12: ='Parq.3 Veh'!C34 -> 0 | R12: ='Parq.3 Veh'!C35 -> 0
A13: =Apartamento!$D$7 -> 5 | B13: =Apartamento!$D$8 -> 2005 | C13: =Apartamento!$D$27 -> 0 | D13: =Apartamento!$D$28 -> 0 | E13: ='Parq.3 Veh'!C37 -> 0 | F13: ='Parq.3 Veh'!C38 -> 0 | G13: ='Parq.3 Veh'!C39 -> 0 | H13: ='Parq.3 Veh'!C40 -> 0 | I13: ='Parq.3 Veh'!C41 -> 0 | J13: ='Parq.3 Veh'!C42 -> 0 | K13: ='Parq.3 Veh'!C43 -> 0 | L13: ='Parq.3 Veh'!C44 -> 0 | M13: ='Parq.3 Veh'!C45 -> 0 | N13: ='Parq.3 Veh'!C46 -> 0 | O13: ='Parq.3 Veh'!C47 -> 0 | P13: ='Parq.3 Veh'!C48 -> 0 | Q13: ='Parq.3 Veh'!C49 -> 0 | R13: ='Parq.3 Veh'!C50 -> 0
A14: =Apartamento!$D$7 -> 5 | B14: =Apartamento!$D$8 -> 2005 | C14: =Apartamento!$D$27 -> 0 | D14: =Apartamento!$D$28 -> 0 | E14: ='Parq.3 Veh'!C52 -> 0 | F14: ='Parq.3 Veh'!C53 -> 0 | G14: ='Parq.3 Veh'!C54 -> 0 | H14: ='Parq.3 Veh'!C55 -> 0 | I14: ='Parq.3 Veh'!C56 -> 0 | J14: ='Parq.3 Veh'!C57 -> 0 | K14: ='Parq.3 Veh'!C58 -> 0 | L14: ='Parq.3 Veh'!C59 -> 0 | M14: ='Parq.3 Veh'!C60 -> 0 | N14: ='Parq.3 Veh'!C61 -> 0 | O14: ='Parq.3 Veh'!C62 -> 0 | P14: ='Parq.3 Veh'!C63 -> 0 | Q14: ='Parq.3 Veh'!C64 -> 0 | R14: ='Parq.3 Veh'!C65 -> 0

Sheet Apartamentos
A1: 101
A2: 102
A3: 103
A4: 104
A5: 105
A6: 106
A7: 107
A8: 108
A9: 201
A10: 202
A11: 203
A12: 204
... A216: 2708
