Workbook

Sheet 0117
B2: FECHA | C2: INGRESOS | D2: EGRESOS | E2: SALDO CAJA | F2: E.G. | G2: W.V. | H2: TRANSFERENCIAS | I2: DESCRIPCION
B4: 42718 | E4: 0 | F4: 411800 | I4: REGISTRO CAMARA Y COMERCIO
B5: 42723 | E5: =E4+C5-D5 -> 0 | G5: 4800 | I5: CERTIFICADO CAMARA Y COMERCIO
B6: 42745 | E6: =E5+C6-D6 -> 0 | F6: 5200 | I6: CERTIFICADO VIRTUAL CAMARA Y COMERCIO
B7: 42746 | C7: 150000 | E7: =E6+C7-D7 -> 150000 | I7: ABONO CORTES LUIS VARGAS
B8: 42747 | E8: =E7+C8-D8 -> 150000 | F8: 96900 | I8: LAMINA TRIPLEX 18 mm
B9: 42747 | D9: 20000 | E9: =E8+C9-D9 -> 130000 | I9: ACARREO LAMINA | K9: SE LE COBRA 25 POR CADA CORTE DE ACRILICO 60 X 80
B10: 42748 | C10: 50000 | E10: =E9+C10-D10 -> 180000 | I10: ABONO CORTES LUIS VARGAS (SALDO ($100.000) | K10: SE LE COBRA 150 POR CORTE DE AVISOS DE 4 LAMINAS ALOCUON
B11: 42748 | E11: =E10+C11-D11 -> 180000 | F11: 20000 | I11: SERRUCHO
B12: 42749 | E12: =E11+C12-D12 -> 180000 | H12: 360000 | I12: PAGO CORTES QUINTUPLEX 18 mm JUAN CAMILO
B13: 42751 | E13: =E12+C13-D13 -> 180000 | H13: 700000 | I13: ABONO CORTE LAVAMANOS
B14: 42752 | E14: =E13+C14-D14 -> 180000 | G14: 5000 | I14: PARQUEADERO E IMPRESIÓN SANITAS
B15: 42752 | C15: 50000 | D15: 0 | E15: =E14+C15-D15 -> 230000 | I15: CORTE 18mm JUAN CAMILO
B16: 42752 | C16: 0 | D16: 100000 | E16: =E15+C16-D16 -> 130000 | I16: DISEÑO LAVAMANOS NELSON
B17: 42752 | E17: =E16+C17-D17 -> 130000 | F17: 47300 | I17: COMPRA IO COMPANY SAS - BROCAS Y CORTE DISCO CHINO
B18: 42752 | E18: =E17+C18-D18 -> 130000 | F18: 158300 | I18: COMPRA HERRATEC BARRA E INSERTO
B19: 42753 | C19: 0 | D19: 120000 | E19: =E18+C19-D19 -> 10000 | F19: -5000 | I19: HERRAMIENTA CORTE LAVAMANOS ($115.000)
B20: 42753 | E20: =E19+C20-D20 -> 10000 | F20: 205000 | I20: TABLEMAC MDF 30mm CORTE LAVAMANOS
B21: 42754 | C21: 0 | D21: 1000 | E21: =E20+C21-D21 -> 9000 | I21: BOLSAS PARA LA BASURA
B22: 42755 | C22: 600000 | E22: =E21+C22-D22 -> 609000 | I22: PAGO SALDO CORTE LAVAMANOS
B23: 42755 | C23: 180000 | E23: =E22+C23-D23 -> 789000 | I23: INSTALACION SIPTAR ALBERTO ZAMUDIO
B24: 42755 | C24: 50000 | E24: =E23+C24-D24 -> 839000 | I24: VOUCHER 8802780813 ALBERTO ZAMUDIO
B25: 42760 | C25: 400000 | D25: 0 | E25: =E24+C25-D25 -> 1239000 | I25: ABONO ENRIQUE 4X4 ESPARRAGOS
B26: 42760 | E26: =E25+C26-D26 -> 1239000 | H26: -349750 | I26: PAGO MI PLANILLA X 2 E.G. Y W.V.
B27: 42761 | C27: 100000 | D27: 0 | E27: =E26+C27-D27 -> 1339000 | I27: REVISION ROUTER JUAN DAVID
B28: 42761 | C28: 0 | D28: 5000 | E28: =E27+C28-D28 -> 1334000 | I28: ENVIO SIM ELADIO ROJAS
B29: 42762 | C29: 0 | D29: 19800 | E29: =E28+C29-D29 -> 1314200 | I29: BARRA PERFORADA ACEFER
B30: 42762 | C30: 0 | D30: 60200 | E30: =E29+C30-D30 -> 1254000 | I30: ACETAL NEGRO
B31: 42766 | C31: 0 | D31: 10000 | E31: =E30+C31-D31 -> 1244000 | I31: DEVOLUCION DINERO W.V.
B32: 42766 | E32: =E31+C32-D32 -> 1244000 | H32: 905000 | I32: VOUCHERS CLIENTES
E33: =E32+C33-D33 -> 1244000
E34: =E33+C34-D34 -> 1244000 | H34: =SUM(H4:H33) -> 1615250
E35: =E34+C35-D35 -> 1244000 | F35: =SUM(F4:F34) -> 939500 | G35: =SUM(G4:G34) -> 9800 | I35: PAGO DINERO PRESTADO E.G. Y W.V.
E36: =E35+C36-D36 -> 1244000
E37: =E36+C37-D37 -> 1244000 | H37: =H34-F35 -> 675750 | I37: TOTAL BANCO
E38: =E37+C38-D38 -> 1244000
B39: 42766 | E39: =E38+C39-D39 -> 1244000 | H39: -600000 | I39: UTILIDADES E.G.
B40: 42766 | D40: 600000 | E40: =E39+C40-D40 -> 644000 | I40: UTILIDADES W.V.
E41: =E40+C41-D41 -> 644000
B42: PASA SALDO | E42: =E41+C42-D42 -> 644000 | H42: =H37+H39 -> 75750
...

Sheet 0217
B2: FECHA | C2: INGRESOS | D2: EGRESOS | E2: SALDO CAJA | F2: E.G. | G2: W.V. | H2: TRANSFERENCIAS | I2: DESCRIPCION
B4: MES ANTERIOR | E4: ='0117'!E70 -> 644000 | H4: ='0117'!H70 -> 75750
E5: =E4+C5+D5 -> 644000
B6: 42767 | E6: =E5+C6+D6 -> 644000 | H6: -258274 | I6: 80.41 (82.78)EUROS VOICETRADING $3.120
B7: 42769 | C7: 250000 | E7: =E6+C7+D7 -> 894000 | I7: CORTES LUIS VARGAS ($180.000) PAGA $100 QUE DEBIA, QUEDA DEBIENDO $30.000
B8: 42769 | E8: =E7+C8+D8 -> 894000 | F8: 28000 | I8: PLATINAS PATINES | J8: UNIVERSAL DE CORTES
B9: 42769 | E9: =E8+C9+D9 -> 894000 | F9: 96000 | I9: RODAMIENTOS PATINES | J9: EL POLLO
B10: 42772 | D10: -138000 | E10: =E9+C10+D10 -> 756000 | I10: BARRA PERFORADA 40 X 20 | J10: ACEFER
B11: 42773 | E11: =E10+C11+D11 -> 756000 | H11: 50000 | I11: VOUCHER ALBERTO ZAMUDIO
B12: 42774 | E12: =E11+C12+D12 -> 756000 | H12: 50000 | I12: VOUCHER DATACOBRO
B13: 42775 | C13: 1000000 | E13: =E12+C13+D13 -> 1756000 | I13: ABONO ENRIQUE 4X4 ESPARRAGOS (TOTAL $1.400.000)
B14: 42775 | E14: =E13+C14+D14 -> 1756000 | H14: -243800 | I14: RENOVACION CAMARA Y COMERCIO
B15: 42774 | E15: =E14+C15+D15 -> 1756000 | H15: -316263 | I15: 102,95 EUROS VOICETRADING $3.072
B16: 42776 | C16: 0 | D16: -76000 | E16: =E15+C16+D16 -> 1680000 | F16: -76000 | I16: 2 SERVICIOS MONTACARGA
B17: 42776 | C17: 200000 | E17: =E16+C17+D17 -> 1880000 | I17: CORTES LUIS VARGAS ($180.000) PAGA $30 QUE DEBIA, QUEDA DEBIENDO $10.000
B18: 42777 | E18: =E17+C18+D18 -> 1880000 | F18: 5200 | I18: IGOM
B19: 42779 | D19: -20000 | E19: =E18+C19+D19 -> 1860000 | F19: -20000 | I19: DINERO A CUENTAS IPCOL
B20: 42779 | E20: =E19+C20+D20 -> 1860000 | F20: 37450 | I20: ACEFER PLATINA CALIBRADA
B21: 42779 | E21: =E20+C21+D21 -> 1860000 | F21: 23400 | I21: JRC BROCAS
B22: 42779 | E22: =E21+C22+D22 -> 1860000 | F22: 56700 | I22: FERRETERIA PENAGOS FRESA ACANALAR
B23: 42780 | C23: 200000 | E23: =E22+C23+D23 -> 2060000 | I23: HERNAN RODRIGUEZ MACROLASER AYUDA SABADO 04/02/2017
B24: 42780 | D24: -9000 | E24: =E23+C24+D24 -> 2051000 | F24: -9000 | I24: DINERO A CUENTAS IPCOL BROCHA
B25: 42781 | C25: 3000000 | E25: =E24+C25+D25 -> 5051000 | I25: DINERO ENTREGADO POR CHILENO ($5.000.000) E.G. TOMO $2.000.000
B26: 42781 | D26: -2007000 | E26: =E25+C26+D26 -> 3044000 | I26: PAGO DE SIM A MARMOLEJO, SALDO AL 31/01/2017 PAGADO.
B27: 42781 | C27: 200000 | E27: =E26+C27+D27 -> 3244000 | I27: BUJES JAIRO CHAPARRO
B28: 42781 | E28: =E27+C28+D28 -> 3244000 | F28: 66640 | I28: HERRATEC INSERTOS
B29: 42782 | D29: -890000 | E29: =E28+C29+D29 -> 2354000 | I29: DINERO ENTREGADO A E.G. PARA SALDAR DEUDA CTAS CHILENO (FALTAN $715.000 QUE DEBE EL CHILENO Y VAN PARA E.G.)
B30: 42783 | E30: =E29+C30+D30 -> 2354000 | H30: 50000 | I30: VOUCHER ALBERTO ZAMUDIO
B31: 42783 | D31: -50000 | E31: =E30+C31+D31 -> 2304000 | F31: -50000 | I31: DINERO A CUENTAS IPCOL
B32: 42787 | E32: =E31+C32+D32 -> 2304000 | H32: 200000 | I32: VOUCHER YINNA CRUZ
B33: 42787 | E33: =E32+C33+D33 -> 2304000 | F33: 279650 | I33: HERRATEC PORTA INSERTO
B34: 42789 | D34: -80000 | E34: =E33+C34+D34 -> 2224000 | I34: CODENSA
B35: 42789 | D35: -76000 | E35: =E34+C35+D35 -> 2148000 | I35: MOVISTAR FIJO
B36: 42789 | E36: =E35+C36+D36 -> 2148000 | H36: 50000 | I36: VOUCHER EVARISTO ROMERO
B37: 42790 | D37: -105000 | E37: =E36+C37+D37 -> 2043000 | I37: MONTACARGA TORNO SAMSUNG
B38: 42791 | E38: =E37+C38+D38 -> 2043000 | H38: 300000 | I38: VOUCHER WILLIAM ROMERO
B39: 42791 | E39: =E38+C39+D39 -> 2043000 | F39: 91550 | I39: JRC VOLVEDOR PARA MACHOS
B40: 42791 | E40: =E39+C40+D40 -> 2043000 | F40: 11900 | I40: HERRATEC INSERTO TORNEADO
B41: 42791 | E41: =E40+C41+D41 -> 2043000 | F41: 11900 | I41: HERRATEC INSERTO TORNEADO
B42: 42793 | D42: -94000 | E42: =E41+C42+D42 -> 1949000 | F42: -94000 | I42: DINERO A CUENTAS IPCOL
...

Sheet 0317
B2: FECHA | C2: INGRESOS | D2: EGRESOS | E2: SALDO CAJA | F2: E.G. | G2: W.V. | H2: TRANSFERENCIAS | I2: DESCRIPCION
B4: MES ANTERIOR | E4: ='0217'!E70 -> 512000 | H4: ='0217'!H70 -> -458235
E5: =E4+C5+D5 -> 512000
A6: I | B6: 42787 | E6: =E5+C6+D6 -> 512000 | F6: -6878 | I6: EXCEDENTE GATO Y ACEITERAS, IMPORTACIONES INTERTRAN
B7: 42789 | E7: =E6+C7+D7 -> 512000 | F7: 85000 | I7: MACHO 12X1,5 JOJAC LTDA.
B8: 42788 | E8: =E7+C8+D8 -> 512000 | F8: 18000 | I8: 2 BARRAS 1Y1/4 FERRE AL LTDA
B9: 42786 | E9: =E8+C9+D9 -> 512000 | F9: 16541 | I9: MACHUELO HSS 6X1 HERRATEC
B10: 42786 | E10: =E9+C10+D10 -> 512000 | F10: 11257 | I10: ACERO 1045 1Y1/4 CORTAMETALES
B11: 42795 | E11: =E10+C11+D11 -> 512000 | H11: 50000 | I11: VOUCHER ALBERTO ZAMUDIO
B12: 42795 | D12: -105000 | E12: =E11+C12+D12 -> 407000 | I12: MONTACARGAS
B13: 42796 | D13: -25000 | E13: =E12+C13+D13 -> 382000 | I13: SELLO METALTRONICOS
B14: 42796 | E14: =E13+C14+D14 -> 382000 | F14: 110860 | I14: BOQUILLAS FRESADORA METALCORTE
B15: 42796 | E15: =E14+C15+D15 -> 382000 | H15: 300000 | I15: VOUCHER MARGARITA AHUMADA (08/02/2017)
B16: 42797 | E16: =E15+C16+D16 -> 382000 | F16: 30476 | I16: BROCA 10,5 JRC
B17: 42797 | D17: -25000 | E17: =E16+C17+D17 -> 357000 | F17: -25000 | I17: A CUENTAS IPCOL
B18: 42801 | E18: =E17+C18+D18 -> 357000 | F18: 8616 | I18: EMPACK BLANCO PLASTICOS HER
B19: 42802 | E19: =E18+C19+D19 -> 357000 | H19: 50000 | I19: ALBERTO ZAMUDIO
B20: 42803 | D20: -4000 | E20: =E19+C20+D20 -> 353000 | F20: -4000 | I20: A CUENTAS IPCOL
B21: 42803 | D21: -76000 | E21: =E20+C21+D21 -> 277000 | I21: MOVISTAR FIJO
B22: 42803 | D22: -67000 | E22: =E21+C22+D22 -> 210000 | I22: ACUEDUCTO
B23: 42804 | E23: =E22+C23+D23 -> 210000 | F23: 59619 | I23: BROCA LM 15MM JRC
B24: 42804 | E24: =E23+C24+D24 -> 210000 | F24: 5950 | I24: EMPAQUE CUADRADO PUERTA TORNO
B25: 42805 | E25: =E24+C25+D25 -> 210000 | F25: 27710 | I25: BOQUILLA ER25 16-15 METALCORTE
B26: 42807 | E26: =E25+C26+D26 -> 210000 | H26: 50000 | I26: VOUCHER EVARISTO
B27: 42808 | E27: =E26+C27+D27 -> 210000 | F27: 211595 | I27: 1045 31,75MM ACEFER
B28: 42808 | E28: =E27+C28+D28 -> 210000 | F28: 41650 | I28: INSERTOS HERRATEC
B29: 42809 | E29: =E28+C29+D29 -> 210000 | F29: 16541 | I29: EMPACK 50MM HER
B30: 42810 | E30: =E29+C30+D30 -> 210000 | F30: 30619 | I30: BOQUILLA ER25 13-12 PLASTICOS Y HERRAMIENTAS SAS
B31: 42811 | C31: 75000 | E31: =E30+C31+D31 -> 285000 | I31: CORTE OVALOS
B32: 42811 | E32: =E31+C32+D32 -> 285000 | F32: 32725 | I32: SPRAY CORREA TRAPEZOIDAL - PROPARTES
B33: 42817 | C33: 300000 | E33: =E32+C33+D33 -> 585000 | I33: PAGO DON LUIS
B34: 42817 | E34: =E33+C34+D34 -> 585000 | H34: 50000 | I34: ALBERTO ZAMUDIO
B35: 42818 | C35: 50000 | E35: =E34+C35+D35 -> 635000 | I35: PLANOS ESCALERA SERBIO
B36: 42818 | D36: -93000 | E36: =E35+C36+D36 -> 542000 | I36: CODENSA
B37: 42818 | D37: -20000 | E37: =E36+C37+D37 -> 522000 | I37: ASEO (JABON POLVO $5.650, AXION $8.100, VARSOL $2.100, GANCHOS ROPA $2.000, BOLSAS BASURA $2.000)
B38: 42818 | E38: =E37+C38+D38 -> 522000 | H38: 200000 | I38: VOUCHER YINNA CRUZ
B39: 42818 | D39: -35000 | E39: =E38+C39+D39 -> 487000 | I39: RECARGA TONNER SAMSUNG
B40: 42822 | E40: =E39+C40+D40 -> 487000 | H40: 50000 | I40: VOUCHER EVARISTO
B41: 42823 | E41: =E40+C41+D41 -> 487000 | H41: -319000 | I41: MI PLANILLA X 2
B42: 42824 | E42: =E41+C42+D42 -> 487000 | F42: 38000 | I42: MONTACARGAS DOBLADORA
...

Sheet 0417
B2: FECHA | C2: INGRESOS | D2: EGRESOS | E2: SALDO CAJA | F2: E.G. | G2: W.V. | H2: TRANSFERENCIAS | I2: DESCRIPCION
B4: MES ANTERIOR | E4: ='0317'!E70 -> 487000 | F4: ='0317'!F70 -> 868173 | H4: ='0317'!H70 -> -27235
E5: =E4+C5+D5 -> 487000
E6: =E5+C6+D6 -> 487000
B7: 42828 | E7: =E6+C7+D7 -> 487000 | H7: 50000 | I7: VOUCHER ALBERTO ZAMUDIO
B8: 42828 | E8: =E7+C8+D8 -> 487000 | F8: 35105 | I8: FRESA CARBURO YG EMC54060 HERRATEC
B9: 42830 | E9: =E8+C9+D9 -> 487000 | F9: 26339 | I9: BOQUILLA ER32 13-12
B10: 42830 | E10: =E9+C10+D10 -> 487000 | F10: 243950 | I10: CONO BT40 ER20 HERRATEC
B11: 42831 | E11: =E10+C11+D11 -> 487000 | F11: 35105 | I11: FRESA CARBURO YG EMC54060 HERRATEC
B12: 42832 | E12: =E11+C12+D12 -> 487000 | F12: 13950 | I12: GUANTES EASY
B13: 42832 | E13: =E12+C13+D13 -> 487000 | F13: 78421 | I13: CALIBRADOR PIE DE REY DIGITAL INSIZE HERRATEC
B14: 42833 | D14: -76000 | E14: =E13+C14+D14 -> 411000 | I14: MOVISTAR FIJO
B15: 42833 | D15: -7000 | E15: =E14+C15+D15 -> 404000 | I15: JABON LIQUIDO MANOS
B16: 42835 | E16: =E15+C16+D16 -> 404000 | H16: 500000 | I16: VOUCHER MARGARITA AHUMADA
B17: 42835 | E17: =E16+C17+D17 -> 404000 | F17: 30000 | I17: MASTERCAM
B18: 42835 | E18: =E17+C18+D18 -> 404000 | F18: 60000 | I18: ESCAREADOR 6mm REDONDEADO 0,5
B19: 42836 | C19: 167000 | E19: =E18+C19+D19 -> 571000 | I19: CORTE ACRILICOS
B20: 42844 | E20: =E19+C20+D20 -> 571000 | H20: 50000 | I20: VOUCHER EVARISTO
B21: 42844 | E21: =E20+C21+D21 -> 571000 | H21: 50000 | I21: VOUCHER ALBERTO ZAMUDIO
B22: 42847 | D22: -104000 | E22: =E21+C22+D22 -> 467000 | I22: CODENSA
B23: 42849 | C23: 100000 | E23: =E22+C23+D23 -> 567000 | I23: MECANIZADO ELECTRODO RICAURTE
B24: 42849 | C24: 73500 | E24: =E23+C24+D24 -> 640500 | I24: MECANIZADO TAPAS ALCANCIA
B25: 42849 | E25: =E24+C25+D25 -> 640500 | F25: 49442 | I25: JRC, JUEGO 3 MACHOS
B26: 42851 | C26: 1000000 | E26: =E25+C26+D26 -> 1640500 | I26: ABONO ENRIQUE 4X4 ESPARRAGOS (TOTAL $2.400.000)
B27: 42853 | E27: =E26+C27+D27 -> 1640500 | F27: 118353 | I27: RENOVACION DYNDNS
B28: 42854 | E28: =E27+C28+D28 -> 1640500 | H28: -319300 | I28: MI PLANILLA X 2
E29: =E28+C29+D29 -> 1640500
E30: =E29+C30+D30 -> 1640500
E31: =E30+C31+D31 -> 1640500 | F31: =SUM(F4:F27) -> 1558838 | H31: =SUM(H4:H28) -> 303465
E32: =E31+C32+D32 -> 1640500
E33: =E32+C33+D33 -> 1640500
B34: PASA SALDO | E34: =E33+C34+D34 -> 1640500 | F34: =F31-H31 -> 1255373 | H34: 0
E35: =E34+C35+D35 -> 1640500
B70: PASA SALDO | E70: =E34 -> 1640500 | F70: =F34 -> 1255373 | H70: =H34 -> 0

Sheet 0517
B2: FECHA | C2: INGRESOS | D2: EGRESOS | E2: SALDO CAJA | F2: E.G. | G2: W.V. | H2: TRANSFERENCIAS | I2: DESCRIPCION
B4: MES ANTERIOR | E4: ='0417'!E70 -> 1640500 | F4: ='0417'!F70 -> 1255373 | H4: ='0417'!H70 -> 0
E5: =E4+C5+D5 -> 1640500
E6: =E5+C6+D6 -> 1640500
B7: 42859 | E7: =E6+C7+D7 -> 1640500 | H7: 50000 | I7: VOUCHER CARMELA ROMERO
B8: 42859 | E8: =E7+C8+D8 -> 1640500 | H8: 50000 | I8: VOUCHER ALBERTO ZAMUDIO
B9: 42863 | E9: =E8+C9+D9 -> 1640500 | F9: 80700 | I9: ACUEDUCTO
B10: 42863 | E10: =E9+C10+D10 -> 1640500 | F10: 50000 | I10: PROGRAMADOR PIC
B11: 42866 | E11: =E10+C11+D11 -> 1640500 | F11: 140000 | I11: TRATAMIENTO TERMICO
B12: 42867 | E12: =E11+C12+D12 -> 1640500 | H12: 224236 | I12: CORTE NORTTHER SAS
B13: 42871 | D13: -9600 | E13: =E12+C13+D13 -> 1630900 | I13: JABON REY-POLVO
B14: 42871 | D14: -10900 | E14: =E13+C14+D14 -> 1620000 | I14: RESMA PAPEL CARTA
B15: 42871 | D15: -76000 | E15: =E14+C15+D15 -> 1544000 | I15: MOVISTAR FIJO
B16: 42871 | D16: -2000 | E16: =E15+C16+D16 -> 1542000 | I16: GANCHOS ROPA
B17: 42873 | E17: =E16+C17+D17 -> 1542000 | H17: 50000 | I17: VOUCHER EVARISTO
B18: 42874 | E18: =E17+C18+D18 -> 1542000 | H18: 50000 | I18: VOUCHER ALBERTO ZAMUDIO
B19: 42874 | E19: =E18+C19+D19 -> 1542000 | F19: 19800 | I19: ORING X 110
B20: 42874 | E20: =E19+C20+D20 -> 1542000 | F20: 70000 | I20: TRATAMIENTO ZINC
B21: 42877 | C21: 400000 | E21: =E20+C21+D21 -> 1942000 | I21: RUTEO ALOCUON JORGE GUTIERREZ
B22: 42878 | E22: =E21+C22+D22 -> 1942000 | F22: 14200 | I22: BARRA PERFORADA ACEFER
B23: 42879 | D23: -67000 | E23: =E22+C23+D23 -> 1875000 | I23: CODENSA
B24: 42885 | E24: =E23+C24+D24 -> 1875000 | H24: -319300 | I24: MI PLANILLA X 2
B25: 42886 | E25: =E24+C25+D25 -> 1875000 | H25: -353416 | I25: 102,95 EUROS VOICETRADING $3.433 sale a $3.535
B26: 42886 | E26: =E25+C26+D26 -> 1875000 | F26: 300000 | I26: PROGRAMACION CAMILO CAMACHO SE DEBE $250.000
B27: 42886 | E27: =E26+C27+D27 -> 1875000 | H27: 50000 | I27: VOUCHER ALBERTO ZAMUDIO
E28: =E27+C28+D28 -> 1875000
E29: =E28+C29+D29 -> 1875000 | F29: =SUM(F4:F27) -> 1930073 | H29: =SUM(H4:H28) -> -198480
E30: =E29+C30+D30 -> 1875000
E31: =E30+C31+D31 -> 1875000 | F31: =F29-H29 -> 2128553 | H31: 0 | I31: SE LE DEBE A EDUARDO GROSSO
B32: 42886 | D32: -1500000 | E32: =E31+C32+D32 -> 375000 | I32: ABONO A EDUARDO GROSSO
E33: =E32+C33+D33 -> 375000
B34: PASA SALDO | E34: =E33+C34+D34 -> 375000 | F34: =F31+D32 -> 628553 | H34: 0
E35: =E34+C35+D35 -> 375000
E36: =E35+C36+D36 -> 375000
E37: =E36+C37+D37 -> 375000
E38: =E37+C38+D38 -> 375000
E39: =E38+C39+D39 -> 375000
E40: =E39+C40+D40 -> 375000
E41: =E40+C41+D41 -> 375000
E42: =E41+C42+D42 -> 375000
...

Sheet 0617
B2: FECHA | C2: INGRESOS | D2: EGRESOS | E2: SALDO CAJA | F2: E.G. | G2: W.V. | H2: TRANSFERENCIAS | I2: DESCRIPCION
B4: MES ANTERIOR | E4: 375000 | F4: 628553 | H4: 0
E5: =E4+C5+D5 -> 375000
E6: =E5+C6+D6 -> 375000
B7: 42887 | E7: =E6+C7+D7 -> 375000 | H7: 50000 | I7: VOUCHER ALBERTO ZAMUDIO
B8: 42887 | C8: 1500000 | E8: =E7+C8+D8 -> 1875000 | I8: ABONO ENRIQUE 4X4 ESPARRAGOS (TOTAL $3.900.000) SALDO $314.000 (98PC a $43.000)
B9: 42888 | D9: -250000 | E9: =E8+C9+D9 -> 1625000 | I9: PAGO CAMILO CAMACHO CONSIGNACION DAVIVIENDA
B10: 42888 | D10: -628000 | E10: =E9+C10+D10 -> 997000 | F10: -628000 | I10: ABONO EN EFECTIVO A EDUARDO GROSSO
B11: 42889 | E11: =E10+C11+D11 -> 997000 | H11: 300000 | I11: VOUCHER WILLIAM ROMERO
B12: 42891 | E12: =E11+C12+D12 -> 997000 | H12: 50000 | I12: VOUCHER EVARISTO ROMERO
B13: 42891 | E13: =E12+C13+D13 -> 997000 | H13: 200000 | I13: VOUCHER YINNA CRUZ
B14: 42892 | D14: -51000 | E14: =E13+C14+D14 -> 946000 | F14: -51000 | I14: COMCEL ALBINA BORRERO
B15: 42893 | E15: =E14+C15+D15 -> 946000 | H15: 50000 | I15: VOUCHER ALBERTO ZAMUDIO
B16: 42900 | E16: =E15+C16+D16 -> 946000 | H16: 50000 | I16: VOUCHER ALBERTO ZAMUDIO
B17: 42901 | D17: -57000 | E17: =E16+C17+D17 -> 889000 | F17: -57000 | I17: COMCEL EDUARDO GROSSO
B18: 42901 | D18: -94000 | E18: =E17+C18+D18 -> 795000 | F18: -94000 | I18: TELMEX ALBINA BORRERO
B19: 42901 | D19: -13000 | E19: =E18+C19+D19 -> 782000 | I19: MOVISTAR FIJO
B20: 42903 | E20: =E19+C20+D20 -> 782000 | F20: 70000 | I20: KINECT CON CARGADOR
B21: 42907 | D21: -5000 | E21: =E20+C21+D21 -> 777000 | F21: -5000 | I21: SEÑOR LLANTAS MATERAS
B22: 42907 | D22: -70000 | E22: =E21+C22+D22 -> 707000 | F22: -70000 | I22: PLATINAS ANTENAS SAN FRANCISCO
B23: 42907 | E23: =E22+C23+D23 -> 707000 | H23: 200000 | I23: VOUCHER YINNA CRUZ
B24: 42908 | E24: =E23+C24+D24 -> 707000 | F24: 100000 | I24: RASPBERRY PI 3
B25: 42909 | E25: =E24+C25+D25 -> 707000 | H25: 150000 | I25: VOUCHER PUNSONAR
B26: 42909 | E26: =E25+C26+D26 -> 707000 | F26: 43000 | I26: MEMORIA MICRO SD 32 GB
B27: 42913 | E27: =E26+C27+D27 -> 707000 | F27: 56800 | I27: ESLINGAS + 20 DE LA COSIDA
B28: 42913 | E28: =E27+C28+D28 -> 707000 | H28: 50000 | I28: VOUCHER JULIAN LOZANO
B29: 42914 | D29: -71400 | E29: =E28+C29+D29 -> 635600 | I29: CODENSA
B30: 42914 | D30: -6250 | E30: =E29+C30+D30 -> 629350 | I30: LIMPIDO Y ESPONJILLAS
B31: 42914 | E31: =E30+C31+D31 -> 629350 | H31: 50000 | I31: VOUCHER EVARISTO ROMERO
B32: 42915 | E32: =E31+C32+D32 -> 629350 | H32: -319300 | I32: MI PLANILLA X 2
B33: 42916 | E33: =E32+C33+D33 -> 629350 | F33: 10100 | I33: TAPON PRUEBA 6" ERZ
B34: 42916 | E34: =E33+C34+D34 -> 629350 | F34: 23300 | I34: FRASCOS PLASTICOS PARA ORGANIZADOR
B35: 42916 | E35: =E34+C35+D35 -> 629350 | F35: 7100 | I35: BARRA PERFORADORA INT. HERRATEC
E36: =E35+C36+D36 -> 629350
E37: =E36+C37+D37 -> 629350
E38: =E37+C38+D38 -> 629350 | F38: =SUM(F4:F37) -> 33853 | H38: =SUM(H4:H37) -> 830700
E39: =E38+C39+D39 -> 629350
B40: PASA SALDO | E40: =E39+C40+D40 -> 629350 | F40: 0 | H40: =H38-F38 -> 796847
E41: =E40+C41+D41 -> 629350
E42: =E41+C42+D42 -> 629350
...

Sheet 0717
B2: FECHA | C2: INGRESOS | D2: EGRESOS | E2: SALDO CAJA | F2: E.G. | G2: W.V. | H2: TRANSFERENCIAS | I2: DESCRIPCION
B4: MES ANTERIOR | E4: 629350 | F4: 0 | H4: 796847
E5: =E4+C5+D5 -> 629350
B6: 42921 | C6: 150000 | E6: =E5+C6+D6 -> 779350 | I6: ABONO CONTROL REMOTO POLIPASTO
B7: 42922 | D7: -105000 | E7: =E6+C7+D7 -> 674350 | I7: MONTACARGAS TORNO SEIKI LUDIMAR
B8: 42922 | D8: -100000 | E8: =E7+C8+D8 -> 574350 | I8: ACARREO TORNO SEIKI
B9: 42922 | E9: =E8+C9+D9 -> 574350 | F9: 45000 | I9: MONTACARGAS TORNO SEIKI
B10: 42923 | D10: -72450 | E10: =E9+C10+D10 -> 501900 | I10: ACUEDUCTO
B11: 42923 | D11: -52000 | E11: =E10+C11+D11 -> 449900 | F11: -52000 | I11: COMCEL ALBA
B12: 42923 | D12: -57000 | E12: =E11+C12+D12 -> 392900 | F12: -57000 | I12: COMCEL EDUARDO
B13: 42923 | D13: -94000 | E13: =E12+C13+D13 -> 298900 | F13: -94000 | I13: TELMEX ALBA
B14: 42923 | E14: =E13+C14+D14 -> 298900 | F14: 5000 | I14: 8 GANCHOS MADEFLEX
B15: 42923 | E15: =E14+C15+D15 -> 298900 | F15: 74800 | I15: CINTA BIMETAL 3/4
B16: 42926 | E16: =E15+C16+D16 -> 298900 | F16: 28000 | I16: 2 MODULOS RF CON CONTROL 315MHZ
B17: 42927 | E17: =E16+C17+D17 -> 298900 | F17: 12000 | I17: MODULO RECEPTOR 315MHZ
B18: 42930 | E18: =E17+C18+D18 -> 298900 | F18: 135600 | I18: CALIBRADOR PIE DE REY 20cm
B19: 42933 | E19: =E18+C19+D19 -> 298900 | F19: 26100 | I19: RECEPTOR 315MHZ Y DISIPADOR RASPBERRY
B20: 42933 | E20: =E19+C20+D20 -> 298900 | F20: 60000 | I20: TRANSFORMADOR 220 - 110
B21: 42933 | E21: =E20+C21+D21 -> 298900 | H21: 150000 | I21: JOYAS MARY
B22: 42934 | E22: =E21+C22+D22 -> 298900 | H22: 50000 | I22: VOUCHER EVARISTO ROMERO
B23: 42934 | E23: =E22+C23+D23 -> 298900 | F23: 35700 | I23: INSERTO PARA ROSCADO
B24: 42934 | E24: =E23+C24+D24 -> 298900 | F24: 9825 | I24: TAPON PRUEBA 6"
B25: 42937 | D25: -72250 | E25: =E24+C25+D25 -> 226650 | I25: CODENSA
B26: 42941 | C26: 450000 | E26: =E25+C26+D26 -> 676650 | I26: SALDO CONTROL REMOTO POLIPASTO
B27: 42942 | E27: =E26+C27+D27 -> 676650 | H27: 200000 | I27: VOUCHER ESCUELA MILITAR
B28: 42943 | D28: -1000 | E28: =E27+C28+D28 -> 675650 | I28: BOLSAS BASURA
B29: 42944 | E29: =E28+C29+D29 -> 675650 | F29: 30702 | I29: TORNILLOS BRISTOL
B30: 42944 | E30: =E29+C30+D30 -> 675650 | F30: 2857 | I30: ARANDELA PLANA ZINC
B31: 42947 | D31: -22150 | E31: =E30+C31+D31 -> 653500 | F31: -22150 | I31: CODENSA SAN FRANCISCO
B32: 42947 | E32: =E31+C32+D32 -> 653500 | H32: -319300 | I32: MI PLANILLA X 2
E33: =E32+C33+D33 -> 653500
E34: =E33+C34+D34 -> 653500 | F34: =SUM(F4:F33) -> 240434 | H34: =SUM(H4:H33) -> 877547
E35: =E34+C35+D35 -> 653500
E36: =E35+C36+D36 -> 653500
B37: PASA SALDO | E37: =E36+C37+D37 -> 653500 | H37: =H34-F34 -> 637113
E38: =E37+C38+D38 -> 653500
E39: =E38+C39+D39 -> 653500
E40: =E39+C40+D40 -> 653500
E41: =E40+C41+D41 -> 653500
E42: =E41+C42+D42 -> 653500
...

Sheet 0817
B2: FECHA | C2: INGRESOS | D2: EGRESOS | E2: SALDO CAJA | F2: E.G. | G2: W.V. | H2: TRANSFERENCIAS | I2: DESCRIPCION
B4: MES ANTERIOR | E4: 653500 | F4: 0 | H4: 637113
E5: =E4+C5+D5 -> 653500
B6: 42949 | E6: =E5+C6+D6 -> 653500 | F6: 26609 | I6: TORNILLO BRISTOL
B7: 42949 | E7: =E6+C7+D7 -> 653500 | F7: 13336 | I7: TORNILLO BRISTOL
B8: 42949 | E8: =E7+C8+D8 -> 653500 | F8: 23491 | I8: EMPACK BLANCO 2"1/2
B9: 42949 | E9: =E8+C9+D9 -> 653500 | F9: 33200 | I9: NYLON 2"1/2
B10: 42950 | E10: =E9+C10+D10 -> 653500 | H10: 200000 | I10: VOUCHER WILLIAM ROMERO
B11: 42955 | D11: -5200 | E11: =E10+C11+D11 -> 648300 | I11: CERTIFICADO CAMARA Y COMERCIO
B12: 42955 | E12: =E11+C12+D12 -> 648300 | F12: 15000 | I12: TRANSFORMADOR 110V A 220V
B13: 42956 | E13: =E12+C13+D13 -> 648300 | F13: 76000 | I13: MODULO RELE 8 CH, ADAPTADOR T Y CAJA RASPBERRY
B14: 42956 | E14: =E13+C14+D14 -> 648300 | F14: 14900 | I14: TOALLAS BAÑO
B15: 42962 | C15: 200000 | E15: =E14+C15+D15 -> 848300 | I15: DINERO EXTRA CONTROL REMOTO POLIPASTO
B16: 42963 | D16: -83000 | E16: =E15+C16+D16 -> 765300 | I16: ALMUERZO ESPERANZA LOPEZ
B17: 42964 | D17: -52000 | E17: =E16+C17+D17 -> 713300 | I17: MOVISTAR FIJO
B18: 42964 | E18: =E17+C18+D18 -> 713300 | H18: 50000 | I18: VOUCHER CARMELA ROMERO
B19: 42965 | C19: 200000 | E19: =E18+C19+D19 -> 913300 | I19: DINERO EXTRA CONTROL REMOTO POLIPASTO
B20: 42965 | E20: =E19+C20+D20 -> 913300 | F20: 124000 | I20: CONTACTORES POLIPASTO 2X37 + 2X25
B21: 42970 | E21: =E20+C21+D21 -> 913300 | H21: 50000 | I21: VOUCHER EVARISTO ROMERO
B22: 42970 | C22: 180000 | E22: =E21+C22+D22 -> 1093300 | I22: 3 HORAS CLASE ARTCAM
B23: 42970 | C23: 250000 | E23: =E22+C23+D23 -> 1343300 | I23: ABONO CORTE PLACAS ROBOT
B24: 42971 | E24: =E23+C24+D24 -> 1343300 | H24: -184680 | I24: 50 EUROS PAGADOS DAVIVIENDA US$61,83 a $2986,88
B25: 42971 | E25: =E24+C25+D25 -> 1343300 | H25: 200000 | I25: VOUCHER YINNA CRUZ
B26: 42972 | E26: =E25+C26+D26 -> 1343300 | H26: 200000 | I26: TRANSFERENCIA PARCERITO GRANDSTREAM HT503
B27: 42975 | D27: -61500 | E27: =E26+C27+D27 -> 1281800 | I27: CODENSA
B28: 42975 | E28: =E27+C28+D28 -> 1281800 | F28: 300000 | I28: ACEITE LUBRIGUIAS
B29: 42975 | C29: 100000 | E29: =E28+C29+D29 -> 1381800 | I29: CURSO ARTCAM
B30: 42976 | D30: -120000 | E30: =E29+C30+D30 -> 1261800 | I30: GAS SOLDADOR (OXIGENOS BOGOTA)
B31: 42976 | D31: -190000 | E31: =E30+C31+D31 -> 1071800 | I31: PAGO GRANDSTREAM HT503
B32: 42976 | E32: =E31+C32+D32 -> 1071800 | H32: -319300 | I32: MI PLANILLA X 2
B33: 42976 | C33: 300000 | E33: =E32+C33+D33 -> 1371800 | I33: ABONO CORTE PLACAS ROBOT
B34: 42978 | D34: -74600 | E34: =E33+C34+D34 -> 1297200 | I34: ACUEDUCTO
B35: 42978 | D35: -2000 | E35: =E34+C35+D35 -> 1295200 | I35: BOLSAS BASURA
E36: =E35+C36+D36 -> 1295200
D37: -400000 | E37: =E36+C37+D37 -> 895200 | I37: UTILIDADES E.G.
D38: -400000 | E38: =E37+C38+D38 -> 495200 | I38: UTILIDADES W.V.
E39: =E38+C39+D39 -> 495200 | F39: =SUM(F4:F37) -> 626536 | H39: =SUM(H4:H37) -> 833133
E40: =E39+C40+D40 -> 495200
B41: PASA SALDO | E41: =E40+C41+D41 -> 495200 | H41: =H39-F39 -> 206597
E42: =E41+C42+D42 -> 495200
...

Sheet 0917
B2: FECHA | C2: INGRESOS | D2: EGRESOS | E2: SALDO CAJA | F2: E.G. | G2: W.V. | H2: TRANSFERENCIAS | I2: DESCRIPCION
B4: MES ANTERIOR | E4: 495200 | F4: 0 | H4: 206597
E5: =E4+C5+D5 -> 495200
B6: 42981 | E6: =E5+C6+D6 -> 495200 | H6: 600000 | I6: TRANSFERENCIA PARCERITO PARA 3 HT503
B7: 42982 | E7: =E6+C7+D7 -> 495200 | F7: 567630 | I7: 3 GATEWAY HT503
B8: 42982 | D8: -2500 | E8: =E7+C8+D8 -> 492700 | I8: PILA 9V PARA MULTRIMETRO
B9: 42983 | D9: -7800 | E9: =E8+C9+D9 -> 484900 | I9: 2 ROLLOS DE CINTA TRANSPARENTE GRUESA
B10: 42983 | E10: =E9+C10+D10 -> 484900 | F10: 10250 | I10: PLATINA DURA ALUMINIO
B11: 42984 | E11: =E10+C11+D11 -> 484900 | F11: 21000 | I11: PLATINA DURA ALUMINIO
B12: 42984 | C12: 100000 | E12: =E11+C12+D12 -> 584900 | I12: SALDO PLACAS ROBOT
B13: 42984 | E13: =E12+C13+D13 -> 584900 | F13: -50000 | I13: FALTANTE PLACAS ROBOT
B14: 42984 | E14: =E13+C14+D14 -> 584900 | F14: 31535 | I14: BOQUILLA FRESADOR ER Y BROCA CILINDRICA 5MM HERRATEC
B15: 42985 | D15: -70000 | E15: =E14+C15+D15 -> 514900 | F15: -70000 | I15: COMCEL EDUARDO GROSSO
B16: 42985 | D16: -51000 | E16: =E15+C16+D16 -> 463900 | F16: -51000 | I16: COMCEL ALBINA BORRERO
B17: 42985 | D17: -94000 | E17: =E16+C17+D17 -> 369900 | F17: -94000 | I17: TELMEX ALBINA BORRERO
B18: 42987 | E18: =E17+C18+D18 -> 369900 | H18: 45000 | I18: VOUCHER PARCERITO
B19: 42989 | E19: =E18+C19+D19 -> 369900 | F19: 81000 | I19: LAMINAS MDF 3mm Y 12 mm
B20: 42989 | E20: =E19+C20+D20 -> 369900 | F20: 30000 | I20: ACARREO LAMINAS
B21: 42989 | E21: =E20+C21+D21 -> 369900 | F21: 21000 | I21: DW-40
B22: 42990 | E22: =E21+C22+D22 -> 369900 | F22: 12000 | I22: 2 ROLLOS VINIPEL
B23: 42990 | E23: =E22+C23+D23 -> 369900 | H23: 223282 | I23: TRANSFERENCIA NORTTHER SAS CORTE MDF
B24: 42993 | D24: -52750 | E24: =E23+C24+D24 -> 317150 | F24: -52750 | I24: 4 TOMAS TRIFASICAS + CLAVIJA
B25: 42993 | E25: =E24+C25+D25 -> 317150 | F25: 200000 | I25: TECNICO VARIADOR HITACHI SEIKI
B26: 42993 | E26: =E25+C26+D26 -> 317150 | I26: MANGUERA COMPRESOR
B27: 43000 | E27: =E26+C27+D27 -> 317150 | H27: 45000 | I27: VOUCHER PARCERITO
B28: 43003 | D28: -70650 | E28: =E27+C28+D28 -> 246500 | I28: CODENSA
B29: 43003 | D29: -76000 | E29: =E28+C29+D29 -> 170500 | I29: MOVISTAR
B30: 43004 | E30: =E29+C30+D30 -> 170500 | H30: 50000 | I30: VOUCHER EVARISTO
B31: 43008 | E31: =E30+C31+D31 -> 170500 | F31: 96500 | I31: REBARBADOR
B32: 43010 | E32: =E31+C32+D32 -> 170500 | H32: -319300 | I32: MI PLANILLA X 2
E33: =E32+C33+D33 -> 170500
E34: =E33+C34+D34 -> 170500
E35: =E34+C35+D35 -> 170500 | F35: =SUM(F4:F34) -> 753165 | H35: =SUM(H4:H34) -> 850579
E36: =E35+C36+D36 -> 170500 | H36: =H35-F35 -> 97414
E37: =E36+C37+D37 -> 170500
E38: =E37+C38+D38 -> 170500 | H38: -100000 | I38: UTILIDADES E.G.
E39: =E38+C39+D39 -> 170500
E40: =E39+C40+D40 -> 170500 | H40: =H36+H38 -> -2586
B41: 43010 | D41: -100000 | E41: =E40+C41+D41 -> 70500 | I41: UTILIDADES W.V.
E42: =E41+C42+D42 -> 70500
...

Sheet 1017
B2: FECHA | C2: INGRESOS | D2: EGRESOS | E2: SALDO CAJA | F2: E.G. | G2: W.V. | H2: TRANSFERENCIAS | I2: DESCRIPCION
B4: MES ANTERIOR | E4: 70500 | F4: 0 | H4: -2586
E5: =E4+C5+D5 -> 70500
B6: 43010 | C6: 400000 | E6: =E5+C6+D6 -> 470500 | I6: MECANIZADO PIEZAS SERVANDO
B7: 43010 | D7: -6000 | E7: =E6+C7+D7 -> 464500 | I7: GASOLINA
B8: 43010 | E8: =E7+C8+D8 -> 464500 | H8: 50000 | I8: VOUCHER CARMELA ROMERO
B9: 43012 | E9: =E8+C9+D9 -> 464500 | H9: 50000 | I9: VOUCHER JULIAN LOZANO
B10: 43013 | D10: -140000 | E10: =E9+C10+D10 -> 324500 | I10: RESORTES
B11: 43014 | E11: =E10+C11+D11 -> 324500 | H11: 90000 | I11: 2 VOUCHER PARCERITO
B12: 43014 | E12: =E11+C12+D12 -> 324500 | F12: 190000 | I12: TORNILLO A BOLAS 12MMx650MM MINI TORNO (MERCADOLIBRE)
B13: 43014 | E13: =E12+C13+D13 -> 324500 | F13: 38080 | I13: INSERTO PARA FRESADO HERRATEC
B14: 43015 | D14: -93000 | E14: =E13+C14+D14 -> 231500 | F14: -93000 | I14: TELMEX ALBA
B15: 43015 | D15: -52000 | E15: =E14+C15+D15 -> 179500 | F15: -52000 | I15: COMCEL ALBA
B16: 43015 | D16: -70000 | E16: =E15+C16+D16 -> 109500 | F16: -70000 | I16: COMCLE E.G.
B17: 43017 | E17: =E16+C17+D17 -> 109500 | F17: 500000 | I17: 4 ER32 COLLET CHUCK
B18: 43019 | E18: =E17+C18+D18 -> 109500 | H18: 140000 | I18: CONSIGNACION PARCERITO ($340, $200 GRANDSTREAM y $140 MINUTOS)
B19: 43019 | E19: =E18+C19+D19 -> 109500 | F19: 4800 | I19: 2 RODAMIENTOS
B20: 43021 | C20: 100000 | E20: =E19+C20+D20 -> 209500 | I20: CORTE PLASMA LLAVES JULIAN
B21: 43021 | D21: -2000 | E21: =E20+C21+D21 -> 207500 | I21: BOLSAS BASURA
B22: 43021 | D22: -21800 | E22: =E21+C22+D22 -> 185700 | I22: ARTICULOS ASEO MERCAFULL
B23: 43027 | E23: =E22+C23+D23 -> 185700 | F23: 313408 | I23: ARBOL PORTABOQUILLA BT-40, 6 PULL STUDS BT-503, METALCORTE Y AFINES SAS
B24: 43027 | E24: =E23+C24+D24 -> 185700 | F24: 78000 | I24: REFRACTOMETRO (MERCADOLIBRE)
B25: 43031 | E25: =E24+C25+D25 -> 185700 | H25: 200000 | I25: VOUCHER YINNA CRUZ
B26: 43033 | D26: -136000 | E26: =E25+C26+D26 -> 49700 | F26: -136000 | I26: TVBOX E.G.
B27: 43033 | E27: =E26+C27+D27 -> 49700 | F27: 72798 | I27: PONCHADORA PIN HUECO, CORAZA PLASTICA NEGRA
B28: 43033 | E28: =E27+C28+D28 -> 49700 | F28: 186354 | I28: BOMBA LUBRICACION 85X85MM INSERTO P' FRESADO, HERRATEC
B29: 43034 | C29: 200000 | E29: =E28+C29+D29 -> 249700 | F29: 200000 | I29: EFECTIVO E.G.
B30: 43034 | D30: -77000 | E30: =E29+C30+D30 -> 172700 | I30: MOVISTAR FIJO
B31: 43034 | D31: -70850 | E31: =E30+C31+D31 -> 101850 | I31: CODENSA
B32: 43034 | D32: -7900 | E32: =E31+C32+D32 -> 93950 | I32: JABON LIQUIDO LOZA
B33: 43038 | E33: =E32+C33+D33 -> 93950 | H33: -319300 | I33: MI PLANILLA X 2
B34: 43038 | D34: -3500 | E34: =E33+C34+D34 -> 90450 | I34: SUPER BONDER
B35: 43039 | E35: =E34+C35+D35 -> 90450 | H35: 200000 | I35: VOUCHER WILLIAM ROMERO
B36: 43039 | C36: 312000 | E36: =E35+C36+D36 -> 402450 | I36: SALDO SEGUROS ESPARRAGOS ENRIQUE
B37: 43039 | E37: =E36+C37+D37 -> 402450 | H37: 460000 | I37: MECANIZADOS ALBERTO VIDALES (MI PEZ)
B38: 43039 | E38: =E37+C38+D38 -> 402450 | F38: 50000 | I38: HAROLD MASTERCAM
E39: =E38+C39+D39 -> 402450
E40: =E39+C40+D40 -> 402450
E41: =E40+C41+D41 -> 402450 | F41: =SUM(F4:F40) -> 1282440 | H41: =SUM(H4:H40) -> 868114
E42: =E41+C42+D42 -> 402450 | H42: =H41-F41 -> -414326
...

Sheet 1117
B2: FECHA | C2: INGRESOS | D2: EGRESOS | E2: SALDO CAJA | F2: E.G. | G2: W.V. | H2: TRANSFERENCIAS | I2: DESCRIPCION
B4: MES ANTERIOR | E4: 402450 | F4: 0 | H4: -414326
E5: =E4+C5+D5 -> 402450
B6: 43042 | D6: -6000 | E6: =E5+C6+D6 -> 396450 | I6: PARQUEADERO E.G.
B7: 43046 | D7: -76100 | E7: =E6+C7+D7 -> 320350 | I7: ACUEDUCTO
B8: 43046 | D8: -100000 | E8: =E7+C8+D8 -> 220350 | F8: -100000 | I8: TELMEX ALBINA BORRERO
B9: 43046 | D9: -51000 | E9: =E8+C9+D9 -> 169350 | F9: -51000 | I9: COMCEL ALBINA BORRERO
B10: 43046 | D10: -70000 | E10: =E9+C10+D10 -> 99350 | F10: -70000 | I10: COMCEL EDUARDO GROSSO
B11: 43046 | E11: =E10+C11+D11 -> 99350 | F11: 7497 | I11: CORREA EN V (MINI TORNO)
B12: 43048 | E12: =E11+C12+D12 -> 99350 | F12: 8806 | I12: TORNILLOS
B13: 43054 | E13: =E12+C13+D13 -> 99350 | H13: 50000 | I13: VOUCHER EVARISTO
B14: 43055 | E14: =E13+C14+D14 -> 99350 | H14: 50000 | I14: VOUCHER CARMELA ROMERO
B15: 43055 | E15: =E14+C15+D15 -> 99350 | F15: 39120 | I15: BOQUILLA ER40 25-24MM
B16: 43056 | E16: =E15+C16+D16 -> 99350 | H16: 1810640 | I16: 2 CORTES NORTHERR PAGADOS 01/11/2017 Y 09/11/2017 (RELACION DE FACTURAS)
B17: 43056 | C17: 2000000 | E17: =E16+C17+D17 -> 2099350 | I17: ABONO MECANIZADO ENRIQUE 4X4
B18: 43056 | E18: =E17+C18+D18 -> 2099350 | H18: 50000 | I18: VOUCHER JULIAN LOZANO
B19: 43057 | E19: =E18+C19+D19 -> 2099350 | F19: 200000 | I19: TECNICO VARIADOR NELSON
B20: 43060 | D20: -82000 | E20: =E19+C20+D20 -> 2017350 | I20: MOVISTAR FIJO
B21: 43060 | D21: -81150 | E21: =E20+C21+D21 -> 1936200 | I21: CODENSA
B22: 43060 | D22: -2000 | E22: =E21+C22+D22 -> 1934200 | I22: 2 ESFEROS
B23: 43060 | D23: -3350 | E23: =E22+C23+D23 -> 1930850 | I23: GUANTES ESPERANZA LOPEZ
B24: 43060 | D24: -600 | E24: =E23+C24+D24 -> 1930250 | I24: 2 SOBRES AGUA DESTILADA
B25: 43060 | C25: 13950 | E25: =E24+C25+D25 -> 1944200 | F25: 13950 | I25: MONEDA DE CUENTAS IPCOL
B26: 43062 | H26: 221400 | I26: ABONO MECANIZADO CARLOS AGUDELO
B27: 43063 | C27: 140000 | E27: =E25+C27+D27 -> 2084200 | I27: CORTE 4 LAMINAS ALUCOBOND LUIS VARGAS
B28: 43063 | D28: -374000 | E28: =E27+C28+D28 -> 1710200 | I28: PAGO LAMINA ALUMINIO 2m*1m*5mm LUIS VARGAS EGRESO 001 PARA PLACA POZOS VICTOR
B29: 43067 | F29: 16700 | I29: CORREA EN V (MINI TORNO)
B30: 43068 | E30: =E28+C30+D30 -> 1710200 | F30: 59500 | I30: MERCADOLIBRE CADENA PORTACABLES TORNO
B31: 43068 | E31: =E30+C31+D31 -> 1710200 | H31: 1000000 | I31: ABONO MECANIZADO CARLOS AGUDELO
B32: 43069 | E32: =E31+C32+D32 -> 1710200 | H32: -319300 | I32: MI PLANILLA X 2
B33: 43069 | E33: =E32+C33+D33 -> 1710200 | F33: -200000 | I33: LLAVES JULIAN
B34: 43069 | E34: =E33+C34+D34 -> 1710200 | F34: 150000 | I34: ACCESORIOS LUBRICACION MANGUERA 4mm, 10 FITTING 5mm, JULIAN
B35: 43069 | D35: -300000 | E35: =E34+C35+D35 -> 1410200 | F35: -300000 | I35: EFECTIVO A E.G.
B36: 43069 | E36: =E35+C36+D36 -> 1410200 | F36: 292000 | I36: DURALUMINIO 7075 MECANIZADOS CARLOS AGUDELO
E37: =E36+C37+D37 -> 1410200
E38: =E37+C38+D38 -> 1410200
E39: =E38+C39+D39 -> 1410200 | F39: =SUM(F4:F38) -> 66573 | H39: =SUM(H4:H38) -> 2448414
E40: =E39+C40+D40 -> 1410200 | H40: =H39-F39 -> 2381841
E41: =E40+C41+D41 -> 1410200
B42: PASA SALDO | E42: =E41+C42+D42 -> 1410200 | H42: =H40 -> 2381841
...

Sheet 1217
B2: FECHA | C2: INGRESOS | D2: EGRESOS | E2: SALDO CAJA | F2: E.G. | G2: W.V. | H2: TRANSFERENCIAS | I2: DESCRIPCION
B4: MES ANTERIOR | E4: 1410200 | F4: 0 | H4: 2381841
E5: =E4+C5+D5 -> 1410200
B6: 43070 | E6: =E5+C6+D6 -> 1410200 | F6: 26882 | I6: RACORES Y UNION TEE
B7: 43070 | E7: =E6+C7+D7 -> 1410200 | F7: 9002 | I7: BROCA 3.3 Y BRISTOL 5mm CABEZA BOLA
B8: 43075 | E8: =E7+C8+D8 -> 1410200 | F8: 25950 | I8: VENTILADOR EXTRACTOR
B9: 43075 | E9: =E8+C9+D9 -> 1410200 | F9: 7900 | I9: TERMOENCOGIBLE
B10: 43075 | E10: =E9+C10+D10 -> 1410200 | F10: 104000 | I10: CAJA DE PASO
B11: 43076 | D11: -5000 | E11: =E10+C11+D11 -> 1405200 | F11: -5000 | I11: CABLE 16 AWG
B12: 43076 | E12: =E11+C12+D12 -> 1405200 | F12: 2400 | I12: TORNILLO BRISTOL
B13: 43076 | E13: =E12+C13+D13 -> 1405200 | F13: 46000 | I13: RELE TERMICO CONTACTOR
B14: 43076 | E14: =E13+C14+D14 -> 1405200 | F14: 88700 | I14: FRESA V 8mm HERRATEC
B15: 43077 | D15: -22200 | E15: =E14+C15+D15 -> 1383000 | I15: ALMUERZO
B16: 43078 | D16: -4500 | E16: =E15+C16+D16 -> 1378500 | I16: ESPEJO Y SHARPIE
B17: 43078 | D17: -20000 | E17: =E16+C17+D17 -> 1358500 | I17: ALMUERZO
B18: 43078 | E18: =E17+C18+D18 -> 1358500 | F18: 20600 | I18: PRENSA ESTOPA, CORAZA, PEGATANQUE
B19: 43078 | E19: =E18+C19+D19 -> 1358500 | F19: 32000 | I19: BLOQUE DISTRIBUCION, MICROS
B20: 43078 | E20: =E19+C20+D20 -> 1358500 | F20: 2100 | I20: RACOR TAPON MACHO
B21: 43081 | C21: 120000 | E21: =E20+C21+D21 -> 1478500 | I21: SERVICIO PLANTAS OSCAR MARMOLEJO O.S. 001
B22: 43081 | E22: =E21+C22+D22 -> 1478500 | F22: 36000 | I22: 3 MICROCONTROLADOR PIC 16F876 (MARMOLEJO)
B23: 43081 | E23: =E22+C23+D23 -> 1478500 | H23: 200000 | I23: VOUCHER YINNA CRUZ
B24: 43082 | D24: -6500 | E24: =E23+C24+D24 -> 1472000 | F24: -6500 | I24: TOMA ELECTRICA $4.500 CINTA DOBLE FAZ $2.000
B25: 43082 | D25: -7400 | E25: =E24+C25+D25 -> 1464600 | I25: JABON LIQUIDO MANOS
B26: 43082 | E26: =E25+C26+D26 -> 1464600 | F26: 10000 | I26: SOLDADURA ALUMINIO CARLOS AGUDELO
B27: 43087 | E27: =E26+C27+D27 -> 1464600 | F27: 1400000 | I27: HALADOR DE BARRAS x 2
B28: 43089 | E28: =E27+C28+D28 -> 1464600 | F28: 11781 | I28: BROCA Y PORTA INSERTO HERRATEC | K28: AFILADORA ESCAREADORES $3.034.000 (relacion de facturas a septiembre de 2019) cruce de cuentas torno emco impro
B29: 43089 | E29: =E28+C29+D29 -> 1464600 | F29: 6000 | I29: LIJAS 4 Y PARQUEADERO 2
B30: 43089 | E30: =E29+C30+D30 -> 1464600 | F30: 417122 | I30: BARRA DE ACERO RDO 31,75mm ESPARRAGOS
B31: 43090 | E31: =E30+C31+D31 -> 1464600 | F31: 200396 | I31: HERRAMIENTAS HERRATEC
B32: 43090 | E32: =E31+C32+D32 -> 1464600 | F32: 20000 | I32: PLACA ALUMINIO PLATO CARLOS AGUDELO
B33: 43091 | D33: -81000 | E33: =E32+C33+D33 -> 1383600 | I33: MOVISTAR FIJO
B34: 43091 | D34: -78100 | E34: =E33+C34+D34 -> 1305500 | I34: CODENSA
B35: 43092 | D35: -52500 | E35: =E34+C35+D35 -> 1253000 | I35: ALMUERZO
B36: 43095 | E36: =E35+C36+D36 -> 1253000 | H36: 50000 | I36: VOUCHER EVARISTO ROMERO
B37: 43096 | D37: -500000 | E37: =E36+C37+D37 -> 753000 | F37: -500000 | I37: COMISION TORNO IMPRO
B38: 43096 | E38: =E37+C38+D38 -> 753000 | F38: 80800 | I38: MARTILLO GOLPE SECO
B39: 43096 | E39: =E38+C39+D39 -> 753000 | H39: 50000 | I39: VOUCHER CARMELA ROMERO
B40: 43097 | D40: -2500 | E40: =E39+C40+D40 -> 750500 | I40: INTERRUPTOR PASO EASY
B41: 43097 | E41: =E40+C41+D41 -> 750500 | H41: 50000 | I41: VOUCHER JULIAN LOZANO
B42: 43098 | E42: =E41+C42+D42 -> 750500 | H42: -334200 | I42: MI PLANILLA X 2
...

Sheet 0118
B2: FECHA | C2: INGRESOS | D2: EGRESOS | E2: SALDO CAJA | F2: E.G. | G2: W.V. | H2: TRANSFERENCIAS | I2: DESCRIPCION
B4: MES ANTERIOR | E4: 750500 | F4: 0 | H4: 1353508
E5: =E4+C5+D5 -> 750500
B6: 43103 | D6: -54000 | E6: =E5+C6+D6 -> 696500 | F6: -54000 | I6: COMCEL ABINA BORRERO
B7: 43103 | D7: -70000 | E7: =E6+C7+D7 -> 626500 | F7: -70000 | I7: COMCEL E.G.
B8: 43103 | D8: -98000 | E8: =E7+C8+D8 -> 528500 | F8: -98000 | I8: TELMEX ALBINA BORRERO
B9: 43103 | D9: -78800 | E9: =E8+C9+D9 -> 449700 | I9: ACUEDUCTO
B10: 43109 | E10: =E9+C10+D10 -> 449700 | F10: 96900 | I10: DAVIVIENDA 25 EUROS VOICETRADING
B11: 43112 | D11: 145000 | E11: =E10+C11+D11 -> 594700 | I11: PIEZA EDWAR MOTOS
B12: 43118 | D12: -4000 | E12: =E11+C12+D12 -> 590700 | I12: JABON LIQUIDO LOZA D1
B13: 43118 | E13: =E12+C13+D13 -> 590700 | F13: 54300 | I13: VARILLA 3/8 ANTENAS ACEFER
B14: 43120 | D14: -59000 | E14: =E13+C14+D14 -> 531700 | I14: ESCAREADOR TUSGTENO 8MM ($55.100) + PASAJES
B15: 43123 | D15: -10000 | E15: =E14+C15+D15 -> 521700 | I15: E.G. LUIS MIGUEL
B16: 43123 | E16: =E15+C16+D16 -> 521700 | H16: 100000 | I16: CORTE DISIPADORES BYG C.C. 001
B17: 43123 | C17: 950000 | E17: =E16+C17+D17 -> 1471700 | I17: MECANIZADOS POLICROMETAL R.C. 002
B18: 43124 | D18: -76000 | E18: =E17+C18+D18 -> 1395700 | I18: MOVISTAR FIJO
B19: 43124 | E19: =E18+C19+D19 -> 1395700 | F19: 150000 | I19: MARTILLO GOLPE SECO Y TORNILLOS ANTENAS
B20: 43124 | E20: =E19+C20+D20 -> 1395700 | F20: 53500 | I20: FRESA AMANA ALOCUBOND
B21: 43125 | D21: -57000 | E21: =E20+C21+D21 -> 1338700 | I21: CODENSA
B22: 43125 | E22: =E21+C22+D22 -> 1338700 | F22: 72250 | I22: SIERRA CIR HSS FERRETERIA JRC CORTE DISIPADORES
B23: 43127 | E23: =E22+C23+D23 -> 1338700 | H23: 200000 | I23: PAGO CESAR PLASMA DAVIVIENDA ($450.000 - $250.000 TORNILLO)
B24: 43129 | E24: =E23+C24+D24 -> 1338700 | H24: -353600 | I24: MI PLANILLA X 2
B25: 43129 | C25: 130750 | E25: =E24+C25+D25 -> 1469450 | I25: CORTE DISIPADORES BYG C.C. 002 (ANULA C.C. 001 TOTAL $248.000 - RETENCIONES = $230.750)
B26: 43129 | D26: -13000 | E26: =E25+C26+D26 -> 1456450 | I26: ALMUERZO X 2
B27: 43130 | E27: =E26+C27+D27 -> 1456450 | F27: 50000 | I27: ARREGLO TORNO SAMSUNG FREDDY
B28: 43130 | E28: =E27+C28+D28 -> 1456450 | F28: 278450 | I28: PORTA INSERTO TROZ INT, FRESA WOODRUFF METALCORTE
B29: 43130 | E29: =E28+C29+D29 -> 1456450 | F29: 40500 | I29: INSERTO COPIADO HERRATEC
B30: 43131 | C30: 300000 | E30: =E29+C30+D30 -> 1756450 | I30: MECANIZADOS POLICROMETAL R.C. 003
B31: 43131 | E31: =E30+C31+D31 -> 1756450 | H31: -762500 | I31: PARA PAGAR A JHON CALDERON 25% MECANIZADOS
E32: =E31+C32+D32 -> 1756450
E33: =E32+C33+D33 -> 1756450
E34: =E33+C34+D34 -> 1756450 | F34: =SUM(F4:F33) -> 573900 | H34: =SUM(H4:H33) -> 537408
E35: =E34+C35+D35 -> 1756450
E36: =E35+C36+D36 -> 1756450
B37: PASA SALDO | E37: =E36+C37+D37 -> 1756450 | H37: =H34-F34 -> -36492
E38: =E37+C38+D38 -> 1756450
E39: =E38+C39+D39 -> 1756450
E40: =E39+C40+D40 -> 1756450 | I40: COMPRA PLASMA HYPERTERM 45 ($1.810.000 EQUIPO + $30.000 ENVIO)
E41: =E40+C41+D41 -> 1756450
E42: =E41+C42+D42 -> 1756450
...

Sheet 0218
B2: FECHA | C2: INGRESOS | D2: EGRESOS | E2: SALDO CAJA | F2: E.G. | G2: W.V. | H2: TRANSFERENCIAS | I2: DESCRIPCION
B4: MES ANTERIOR | E4: 1756450 | F4: 0 | H4: -36492
E5: =E4+C5+D5 -> 1756450
B6: 43132 | D6: -2000 | E6: =E5+C6+D6 -> 1754450 | I6: LONAS
B7: 43133 | D7: -98000 | E7: =E6+C7+D7 -> 1656450 | F7: -98000 | I7: TELMEX ALBINA BORRERO
B8: 43133 | D8: -53000 | E8: =E7+C8+D8 -> 1603450 | F8: -53000 | I8: COMCEL ALBINA BORRERO
B9: 43133 | D9: -3450 | E9: =E8+C9+D9 -> 1600000 | I9: CINTA ENMASCARAR EASY
B10: 43133 | D10: -1400 | E10: =E9+C10+D10 -> 1598600 | I10: CINTA TRANSPARENTE
B11: 43133 | D11: -2000 | E11: =E10+C11+D11 -> 1596600 | I11: BOLSAS BASURA
B12: 43133 | D12: -1000 | E12: =E11+C12+D12 -> 1595600 | I12: GANCHOS ROPA
B13: 43133 | E13: =E12+C13+D13 -> 1595600 | F13: 40500 | I13: INSERTOS HERRATEC
B14: 43134 | D14: -40000 | E14: =E13+C14+D14 -> 1555600 | I14: ALMUERZO
B15: 43137 | E15: =E14+C15+D15 -> 1555600 | F15: 284500 | I15: MDF NORTHER EASY
B16: 43138 | E16: =E15+C16+D16 -> 1555600 | F16: 191150 | I16: HERRATEC MACHO Y PALPADOR
B17: 43141 | D17: -20000 | E17: =E16+C17+D17 -> 1535600 | I17: ALMUERZO
B18: 43144 | E18: =E17+C18+D18 -> 1535600 | F18: 153000 | I18: TRATAMIENTO TERMICO 100 ESPARRAGOS
B19: 43144 | E19: =E18+C19+D19 -> 1535600 | F19: 5000 | I19: SILICONA
B20: 43145 | E20: =E19+C20+D20 -> 1535600 | F20: 38700 | I20: ORINGS
B21: 43146 | D21: -76000 | E21: =E20+C21+D21 -> 1459600 | F21: -76000 | I21: COMCEL E.G.
B22: 43146 | D22: -2000 | E22: =E21+C22+D22 -> 1457600 | I22: BOLSAS BASURA
B23: 43147 | C23: 12000 | E23: =E22+C23+D23 -> 1469600 | I23: PAGO CHATARRA
B24: 43147 | E24: =E23+C24+D24 -> 1469600 | F24: 175500 | I24: ACERTEMPLE TRATAMIENTO TERMICO
B25: 43148 | E25: =E24+C25+D25 -> 1469600 | H25: 650000 | I25: TRANSFERENCIA DAVIVIENDA LUIS VARGAS DEBE $400.000
B26: 43145 | D26: -4200 | E26: =E25+C26+D26 -> 1465400 | I26: JABON ESPERANZA
B27: 43150 | E27: =E26+C27+D27 -> 1465400 | H27: 3000000 | I27: ENRIQUE 4X4 (TOTAL ABONO $5.000.000) DAVIVIENDA
B28: 43151 | E28: =E27+C28+D28 -> 1465400 | H28: 348878 | I28: BYG DISIPADORES BANCOLOMBIA
B29: 43150 | E29: =E28+C29+D29 -> 1465400 | F29: 218750 | I29: MATERIAL ACEFER TORNILLOS ENRIQUE
B30: 43150 | E30: =E29+C30+D30 -> 1465400 | F30: 53550 | I30: HERRATEC INSERTO PARA ROSCADO
B31: 43152 | E31: =E30+C31+D31 -> 1465400 | H31: 400000 | I31: TRANSFERENCIA DAVIVIENDA LUIS VARGAS DEBE $300.000
B32: 43154 | C32: 100000 | E32: =E31+C32+D32 -> 1565400 | I32: CORTE PVC ESPUMADO
B33: 43154 | E33: =E32+C33+D33 -> 1565400 | F33: 30000 | I33: RESORTES PARA SEGER ESPARRAGOS
B34: 43154 | E34: =E33+C34+D34 -> 1565400 | F34: 46800 | I34: ZINCADO
B35: 43157 | D35: -181400 | E35: =E34+C35+D35 -> 1384000 | I35: CODENSA
B36: 43157 | D36: -85800 | E36: =E35+C36+D36 -> 1298200 | I36: ACUEDUCTO
B37: 43157 | D37: -81000 | E37: =E36+C37+D37 -> 1217200 | I37: MOVISTAR FIJO
B38: 43158 | D38: -5700 | E38: =E37+C38+D38 -> 1211500 | I38: ONCES
B39: 43159 | E39: =E38+C39+D39 -> 1211500 | H39: -354550 | I39: MI PLANILLA X 2
E40: =E39+C40+D40 -> 1211500 | I40: COMPRA PLASMA HYPERTERM 45 ($1.810.000 EQUIPO + $30.000 ENVIO)
E41: =E40+C41+D41 -> 1211500
E42: =E41+C42+D42 -> 1211500 | F42: 50000 | I42: MI PEZ SACADA TORNILLOS
...

Sheet 0318
B2: FECHA | C2: INGRESOS | D2: EGRESOS | E2: SALDO CAJA | F2: E.G. | G2: W.V. | H2: TRANSFERENCIAS | I2: DESCRIPCION
B4: MES ANTERIOR | E4: 1211500 | F4: 0 | H4: 2764386
E5: =E4+C5+D5 -> 1211500
B6: 43160 | E6: =E5+C6+D6 -> 1211500 | F6: 71400 | I6: ESCAREADOR PLANO 6MM TIALN ATI INGENIERIA
B7: 43160 | D7: -10800 | E7: =E6+C7+D7 -> 1200700 | I7: ONCES
B8: 43160 | E8: =E7+C8+D8 -> 1200700 | F8: 213600 | I8: ACERTEMPLE 44.5KG ENRIQUE 4X4
B9: 43164 | E9: =E8+C9+D9 -> 1200700 | F9: 15000 | I9: ZINCADO ESPARRAGOS
B10: 43165 | D10: -9800 | E10: =E9+C10+D10 -> 1190900 | I10: AEROSOL NEGRO BRILLANTE
B11: 43166 | D11: -75000 | E11: =E10+C11+D11 -> 1115900 | F11: -75000 | I11: COMCEL E.G.
B12: 43166 | D12: -54000 | E12: =E11+C12+D12 -> 1061900 | F12: -54000 | I12: COMCEL ALBINA BORRERO
B13: 43166 | D13: -102000 | E13: =E12+C13+D13 -> 959900 | F13: -102000 | I13: TELMEX ALBINA BORRERO
B14: 43166 | E14: =E13+C14+D14 -> 959900 | F14: 43500 | I14: CONTACTOR Y RELE TERMICO
B15: 43166 | E15: =E14+C15+D15 -> 959900 | F15: 28400 | I15: TERMINALES
B16: 43167 | E16: =E15+C16+D16 -> 959900 | F16: 30000 | I16: ACERO PARA TORRETA TORNO EMCO
B17: 43167 | D17: -4000 | E17: =E16+C17+D17 -> 955900 | I17: TOMA ELECTRICA SOBREPONER TORNO EMCO Y GANCHOS ROPA
B18: 43168 | D18: -12200 | E18: =E17+C18+D18 -> 943700 | I18: ONCES, AREPA RELLENA
B19: 43168 | E19: =E18+C19+D19 -> 943700 | F19: 750000 | I19: ABONO 50% CONTADOR, LIQUIDACION EMPRESA. EGRESO 002
B20: 43168 | E20: =E19+C20+D20 -> 943700 | F20: 19900 | I20: FERRETERIA JRC BROCA 9.5mm, LLAVE MIXTA 10mm
B21: 43169 | D21: -20400 | E21: =E20+C21+D21 -> 923300 | I21: ALMUERZO
B22: 43171 | E22: =E21+C22+D22 -> 923300 | F22: 15000 | I22: ENERGIA CONTROL Y REDES: SELECTOR CON LLAVE
B23: 43173 | E23: =E22+C23+D23 -> 923300 | F23: 10000 | I23: ROSCA 5MM X8 ESQUINA
B24: 43174 | E24: =E23+C24+D24 -> 923300 | H24: -222700 | I24: MI PLANILLA E.G. MARZO
B25: 43175 | D25: -5000 | E25: =E24+C25+D25 -> 918300 | I25: CAJA PLASTICA PARA EMCO
B26: 43175 | E26: =E25+C26+D26 -> 918300 | F26: 50000 | I26: RETENCION HERRATEC
B27: 43175 | D27: -15100 | E27: =E26+C27+D27 -> 903200 | I27: COMPLETAR RETENCION HERRATEC ($65.100)
B28: 43180 | D28: -64600 | E28: =E27+C28+D28 -> 838600 | I28: ALMUERZO
B29: 43180 | D29: -2200 | E29: =E28+C29+D29 -> 836400 | I29: PARQUEADERO
B30: 43181 | C30: 1000000 | E30: =E29+C30+D30 -> 1836400 | I30: DE CUENTAS MINITORNO EMCO
B31: 43183 | D31: -35000 | E31: =E30+C31+D31 -> 1801400 | I31: OVEROL WILMER
B32: 43185 | D32: -86300 | E32: =E31+C32+D32 -> 1715100 | I32: CODENSA
B33: 43185 | D33: -82000 | E33: =E32+C33+D33 -> 1633100 | I33: MOVISTAR FIJO
B34: 43185 | E34: =E33+C34+D34 -> 1633100 | H34: 3000000 | I34: ENRIQUE 4X4 (TOTAL ABONO $8.000.000) DAVIVIENDA
B35: 43186 | C35: 500000 | E35: =E34+C35+D35 -> 2133100 | I35: RUTAEDO QUINTUPLES JONATAN GONZALES QUEDA DEBIENDO $500 = $300 DEL 27/03 Y $200 DEL 28/03
B36: 43186 | E36: =E35+C36+D36 -> 2133100 | H36: -126000 | I36: RENOVACION MATRICULA MERCATIL CAMARA Y COMERCIO
B37: 43187 | E37: =E36+C37+D37 -> 2133100 | H37: -176100 | I37: MI PLANILLA W.V.
B38: 43187 | E38: =E37+C38+D38 -> 2133100 | H38: -222700 | I38: MI PLANILLA E.G. ABRIL
B39: 43190 | D39: -9750 | E39: =E38+C39+D39 -> 2123350 | I39: JABON LIQUDO LOZA D1 X5
E40: =E39+C40+D40 -> 2123350 | I40: COMPRA PLASMA HYPERTERM 45 ($1.810.000 EQUIPO + $30.000 ENVIO)
E41: =E40+C41+D41 -> 2123350
E42: =E41+C42+D42 -> 2123350
...

Sheet 0418
B2: FECHA | C2: INGRESOS | D2: EGRESOS | E2: SALDO CAJA | F2: E.G. | G2: W.V. | H2: TRANSFERENCIAS | I2: DESCRIPCION
B4: MES ANTERIOR | E4: 1623350 | F4: 0 | H4: 3501086
E5: =E4+C5+D5 -> 1623350
B6: 43192 | D6: 180000 | E6: =E5+C6+D6 -> 1803350 | I6: TRABAJO MECANIZADO JULIAN
B7: 43192 | D7: -20000 | E7: =E6+C7+D7 -> 1783350 | I7: SWITCH LLAVE PARA LEADWELL V20
B8: 43193 | E8: =E7+C8+D8 -> 1783350 | H8: 500000 | I8: SALDO RUTAEDO QUINTUPLES JONATAN GONZALES QUEDA OK
B9: 43194 | D9: -2300 | E9: =E8+C9+D9 -> 1781050 | I9: DECOL SRA. ESPERANZA
B10: 43194 | D10: -1196000 | E10: =E9+C10+D10 -> 585050 | I10: IMPUESTO PREDIAL INGLES
B11: 43195 | D11: -3500 | E11: =E10+C11+D11 -> 581550 | I11: TOMA 220 EASY PARA CHIA
B12: 43195 | D12: -2000 | E12: =E11+C12+D12 -> 579550 | I12: PAPEL HIGIENICO CHIA
B13: 43560 | D13: -35000 | E13: =E12+C13+D13 -> 544550 | I13: ALMUERZO
B14: 43196 | D14: -54000 | E14: =E13+C14+D14 -> 490550 | F14: -54000 | I14: COMCEL ALBINA BORRERO
B15: 43196 | D15: -72000 | E15: =E14+C15+D15 -> 418550 | F15: -72000 | I15: COMCEL E.G.
B16: 43196 | D16: -100000 | E16: =E15+C16+D16 -> 318550 | F16: -100000 | I16: TELMEX ALBINA BORRERO
B17: 43196 | D17: -9500 | E17: =E16+C17+D17 -> 309050 | I17: CINTA ENMASCARAR $3.600, 3 ESFEROS $3.000, 1 SHARPIE $2.900
B18: 43197 | E18: =E17+C18+D18 -> 309050 | H18: 500000 | I18: TRANSFERENCIA DAVIVIENDA LUIS VARGAS DEBE $590.000 email 09/04/2018
B19: 43200 | E19: =E18+C19+D19 -> 309050 | F19: 35400 | I19: ACEFER: RDO 25.4mm CALIBRADO PRUEBA ENRIQUE 4X4
B20: 43202 | E20: =E19+C20+D20 -> 309050 | F20: 103250 | I20: MATERIAL REDONDO 12.7mm PRUEBAS ENRIQUE - ACEFER
B21: 43203 | E21: =E20+C21+D21 -> 309050 | F21: 300000 | I21: EXCEDENTE HALADOR BARRAS TORNO X 2
B22: 43206 | E22: =E21+C22+D22 -> 309050 | H22: -89200 | I22: VOICETRADING 25 EUROS
B23: 43207 | E23: =E22+C23+D23 -> 309050 | F23: 12000 | I23: TRATAMIENTO TERMICO 4 SEGUROS ENRIQUE
B24: 43207 | D24: -15000 | E24: =E23+C24+D24 -> 294050 | I24: ONCES AREPA Y HAMBURGUESA
B25: 43208 | D25: -12600 | E25: =E24+C25+D25 -> 281450 | I25: 3 AREPAS RELLENAS
B26: 43209 | E26: =E25+C26+D26 -> 281450 | H26: -5500 | I26: CERTIFICADO CAMARA Y COMERCIO
B27: 43210 | E27: =E26+C27+D27 -> 281450 | H27: 280000 | I27: RUTEADO ALOCUBOND JONATHAN GONZALES DEBE $100.000 RUTEADO ACRILICO | M27: jonatan 3.5horas viernes $175 + $100 que debia =$275, y una T de alocubond
B28: 43213 | E28: =E27+C28+D28 -> 281450 | F28: 47200 | I28: DURALUMINIO TRABAJO JAIRO COMPRADO EN AXXECOL
B29: 43213 | D29: -64400 | E29: =E28+C29+D29 -> 217050 | I29: CODENSA
B30: 43213 | D30: -82000 | E30: =E29+C30+D30 -> 135050 | I30: MOVISTAR
B31: 43213 | D31: -15900 | E31: =E30+C31+D31 -> 119150 | I31: PAPEL HIGIENICO MERCAFULL
B32: 43215 | D32: -2500 | E32: =E31+C32+D32 -> 116650 | I32: ESPRANZA LOPEZ
B33: 43216 | E33: =E32+C33+D33 -> 116650 | H33: 300000 | I33: MECANIZADO JAIRO
B34: 43216 | E34: =E33+C34+D34 -> 116650 | H34: 3000000 | I34: ENRIQUE 4X4 (TOTAL ABONO $11.000.000) DAVIVIENDA
B35: 43220 | E35: =E34+C35+D35 -> 116650 | H35: 500000 | I35: TRANSFERENCIA BANCOLOMBIA FERNANDO GUEVARA INTERESES PRESTAMO ABRIL
B36: 43220 | D36: -85250 | E36: =E35+C36+D36 -> 31400 | I36: ACUEDUCTO
E37: =E36+C37+D37 -> 31400
E38: =E37+C38+D38 -> 31400
E39: =E38+C39+D39 -> 31400 | F39: =SUM(F4:F38) -> 271850 | H39: =SUM(H4:H38) -> 8486386
E40: =E39+C40+D40 -> 31400 | H40: =H39-F39 -> 8214536 | I40: COMPRA PLASMA HYPERTERM 45 ($1.810.000 EQUIPO + $30.000 ENVIO)
E41: =E40+C41+D41 -> 31400
E42: =E41+C42+D42 -> 31400 | H42: -2000000 | I42: UTILIDADES E.G.
...

Sheet 0518
B2: FECHA | C2: INGRESOS | D2: EGRESOS | E2: SALDO CAJA | F2: E.G. | G2: W.V. | H2: TRANSFERENCIAS | I2: DESCRIPCION
B4: MES ANTERIOR | E4: 31400 | F4: 0 | H4: 4214536
E5: =E4+C5+D5 -> 31400
B6: 43222 | E6: =E5+C6+D6 -> 31400 | H6: -222700 | I6: MI PLANILLA E.G. MAYO
B7: 43222 | E7: =E6+C7+D7 -> 31400 | H7: -176100 | I7: MI PLANILLA W.V. ABRIL
B8: 43222 | C8: 1000000 | E8: =E7+C8+D8 -> 1031400 | F8: 1000000 | I8: EFECTIVO A CAJA
B9: 43222 | D9: -291000 | E9: =E8+C9+D9 -> 740400 | I9: PAGO DECLARACION RENTA 2017 METALTRONICOS
B10: 43223 | D10: -4000 | E10: =E9+C10+D10 -> 736400 | I10: DESPINCHADO MOTO E.G.
B11: 43227 | D11: -53000 | E11: =E10+C11+D11 -> 683400 | F11: -53000 | I11: COMCEL ALBINA BORERO
B12: 43227 | D12: -72000 | E12: =E11+C12+D12 -> 611400 | F12: -72000 | I12: COMCEL E.G.
B13: 43227 | D13: -99000 | E13: =E12+C13+D13 -> 512400 | F13: -99000 | I13: TELMEX ALBINA BORRERO
B14: 43228 | E14: =E13+C14+D14 -> 512400 | H14: 275000 | I14: SALDO RUTEO JONATHAN
B15: 43229 | D15: -3150 | E15: =E14+C15+D15 -> 509250 | I15: JABON POLVO ESPERANZA D1
B16: 43229 | D16: -13650 | E16: =E15+C16+D16 -> 495600 | I16: GUANTES EASY
B17: 43230 | D17: -2000 | E17: =E16+C17+D17 -> 493600 | I17: BOLSAS BASURA
B18: 43231 | D18: -2000 | E18: =E17+C18+D18 -> 491600 | I18: SIM CARD PRUEBA FERNANDO GUEVARA
B19: 43235 | E19: =E18+C19+D19 -> 491600 | F19: 90500 | I19: VOICETRADING 25 EUROS
B20: 43235 | C20: 500000 | E20: =E19+C20+D20 -> 991600 | I20: ABONO LUIS VARGAS DE $950.000 QUEDA SALDO DE $450.000 EMAIL 11/05/2018
B21: 43236 | E21: =E20+C21+D21 -> 991600 | F21: 18500 | I21: BROCA 10,8mm JRC
B22: 43236 | E22: =E21+C22+D22 -> 991600 | F22: 33800 | I22: MACHUELO 1/2" HERRATEC
B23: 43243 | C23: 200000 | E23: =E22+C23+D23 -> 1191600 | I23: 20 LLAVES JULIAN
B24: 43246 | E24: =E23+C24+D24 -> 1191600 | H24: 500000 | I24: TRANSFERENCIA BANCOLOMBIA FERNANDO GUEVARA INTERESES PRESTAMO MAYO
B25: 43248 | D25: -59900 | E25: =E24+C25+D25 -> 1131700 | I25: CODENSA
B26: 43248 | E26: =E25+C26+D26 -> 1131700 | F26: 15500 | I26: EMPACK 1 1/2
B27: 43250 | D27: -3000 | E27: =E26+C27+D27 -> 1128700 | I27: PILA 9V
B28: 43251 | E28: =E27+C28+D28 -> 1128700 | H28: -222700 | I28: MI PLANILLA E.G. JUNIO
B29: 43251 | E29: =E28+C29+D29 -> 1128700 | H29: -176100 | I29: MI PLANILLA W.V. MAYO
B30: 43251 | C30: 3000000 | E30: =E29+C30+D30 -> 4128700 | I30: ABONO ENRIQUE 4X4 200 JUEGOS
B31: 43251 | D31: -826000 | E31: =E30+C31+D31 -> 3302700 | I31: COMPRA MATERIAL ENRIQUE ACEFER BARRA PERFORADA 40X20, RDO CALIBRADO 31,75mm SAE 1045
E32: =E31+C32+D32 -> 3302700
E33: =E32+C33+D33 -> 3302700
E34: =E33+C34+D34 -> 3302700 | F34: =SUM(F4:F33) -> 934300 | H34: =SUM(H4:H33) -> 4191936
E35: =E34+C35+D35 -> 3302700
E36: =E35+C36+D36 -> 3302700 | H36: =H34-F34 -> 3257636
E37: =E36+C37+D37 -> 3302700
E38: =E37+C38+D38 -> 3302700 | H38: -250000 | I38: UTILIDADES E.G.
D39: -250000 | E39: =E38+C39+D39 -> 3052700 | I39: UTILIDADES W.V.
E40: =E39+C40+D40 -> 3052700
B41: PASA SALDO | E41: =E40+C41+D41 -> 3052700 | H41: =H36+H38 -> 3007636
E42: =E41+C42+D42 -> 3052700
...

Sheet 0618
B2: FECHA | C2: INGRESOS | D2: EGRESOS | E2: SALDO CAJA | F2: E.G. | G2: W.V. | H2: TRANSFERENCIAS | I2: DESCRIPCION
B4: MES ANTERIOR | E4: 3052700 | F4: 0 | H4: 3007636
E5: =E4+C5+D5 -> 3052700
B6: 43252 | D6: -82000 | E6: =E5+C6+D6 -> 2970700 | I6: MOVISTAR FIJO
B7: 43252 | E7: =E6+C7+D7 -> 2970700 | F7: 58000 | I7: HERRATEC: FRESA V 4mm, BROCA 11.5mm
B8: 43621 | E8: =E7+C8+D8 -> 2970700 | F8: 12000 | I8: ACERTEMPLE TRATAMIENTO TERMICO
B9: 43257 | D9: -101000 | E9: =E8+C9+D9 -> 2869700 | F9: -101000 | I9: TELMEX ALBA
B10: 43257 | D10: -71000 | E10: =E9+C10+D10 -> 2798700 | F10: -71000 | I10: COMCEL E.G.
B11: 43257 | D11: -54000 | E11: =E10+C11+D11 -> 2744700 | F11: -54000 | I11: COMCEL ALBA
B12: 43257 | E12: =E11+C12+D12 -> 2744700 | F12: 12000 | I12: TEMPLADA 5 SEGUROS Y COPA ENRIQUE JEEP
B13: 43258 | C13: 855000 | E13: =E12+C13+D13 -> 3599700 | I13: EFECTIVO E.G. PARA PAGAR OSCAR MARMOLEJO
B14: 43258 | D14: -854200 | E14: =E13+C14+D14 -> 2745500 | I14: PAGO SIM OSCAR MARMOLEJO ABR-MAY
B15: 43259 | E15: =E14+C15+D15 -> 2745500 | F15: 200000 | I15: CAMABAJA RUTEADORA CARLOS TORRES
B16: 43259 | D16: -30000 | E16: =E15+C16+D16 -> 2715500 | F16: -30000 | I16: PLATINA 20x20x1" PISADOR SAN FRANCISCO
B17: 43259 | D17: -100000 | E17: =E16+C17+D17 -> 2615500 | I17: MONTACARGA LUDIMAR
B18: 43263 | E18: =E17+C18+D18 -> 2615500 | F18: 4200 | I18: PILA GP ALKALINA
B19: 43264 | D19: -6000 | E19: =E18+C19+D19 -> 2609500 | F19: -6000 | I19: BOTAS E.G. ESPERANZA LOPEZ
B20: 43265 | D20: -4000 | E20: =E19+C20+D20 -> 2605500 | I20: 2 GALONES VACIOS DANIEL
B21: 43266 | D21: -3000 | E21: =E20+C21+D21 -> 2602500 | I21: 3 CD'S
B22: 43267 | D22: -150000 | E22: =E21+C22+D22 -> 2452500 | I22: JUAN PABLO RIOS REXCOTOOLS TORNO SAMSUNG
B23: 43269 | D23: -4000 | E23: =E22+C23+D23 -> 2448500 | I23: 10 LONAS
B24: 43270 | D24: -83300 | E24: =E23+C24+D24 -> 2365200 | I24: INSERTOS Y TORNILLO AJUSTE PORTAINSERTO HERRATEC
B25: 43270 | D25: -14000 | E25: =E24+C25+D25 -> 2351200 | I25: TRANSPORTES WILMER - MACROLASER
B26: 43271 | C26: 50000 | E26: =E25+C26+D26 -> 2401200 | I26: MECANIZADO JASON, SALDO $200.000
B27: 43272 | D27: -40550 | E27: =E26+C27+D27 -> 2360650 | I27: ENVIO PC A PASTO
B28: 43272 | D28: -81000 | E28: =E27+C28+D28 -> 2279650 | I28: MOVISTAR FIJO
B29: 43272 | D29: -53500 | E29: =E28+C29+D29 -> 2226150 | I29: CODENSA
B30: 43273 | D30: -85550 | E30: =E29+C30+D30 -> 2140600 | I30: ACUEDUCTO
B31: 43274 | C31: 200000 | E31: =E30+C31+D31 -> 2340600 | I31: MECANIZADO JASON, SALDO $0
B32: 43276 | E32: =E31+C32+D32 -> 2340600 | F32: 14650 | I32: BURIL TUGSTENO 5/16 HER PLASTICOS
B33: 43279 | E33: =E32+C33+D33 -> 2340600 | H33: -222700 | I33: MI PLANILLA E.G. JULIO
B34: 43279 | E34: =E33+C34+D34 -> 2340600 | H34: -176100 | I34: MI PLANILLA W.V. JUNIO
E35: =E34+C35+D35 -> 2340600
E36: =E35+C36+D36 -> 2340600 | F36: =SUM(F4:F35) -> 38850 | H36: =SUM(H4:H35) -> 2608836
E37: =E36+C37+D37 -> 2340600
E38: =E37+C38+D38 -> 2340600 | H38: =H36-F36 -> 2569986
E39: =E38+C39+D39 -> 2340600
E40: =E39+C40+D40 -> 2340600 | H40: -500000 | I40: COMPRA PLASMA HYPERTERM 45 ($1.810.000 EQUIPO + $30.000 ENVIO)
D41: -500000 | E41: =E40+C41+D41 -> 1840600 | I41: UTILIDADES W.V.
E42: =E41+C42+D42 -> 1840600
...

Sheet 0718
B2: FECHA | C2: INGRESOS | D2: EGRESOS | E2: SALDO CAJA | F2: E.G. | G2: W.V. | H2: TRANSFERENCIAS | I2: DESCRIPCION
B4: MES ANTERIOR | E4: 1840600 | F4: 0 | H4: 2069986
E5: =E4+C5+D5 -> 1840600
B6: 43284 | D6: -16000 | E6: =E5+C6+D6 -> 1824600 | I6: ALMUERZO
B7: 43284 | E7: =E6+C7+D7 -> 1824600 | F7: 46650 | I7: INSERTO INTERIORES HERRATEC X 2
B8: 43284 | E8: =E7+C8+D8 -> 1824600 | F8: 21300 | I8: P&R NEUMATICA: RACOR RECTO M5x4mm
B9: 43286 | D9: -3000 | E9: =E8+C9+D9 -> 1821600 | I9: ONCES | M9: MI PLANILLA
B10: 43287 | D10: -13000 | E10: =E9+C10+D10 -> 1808600 | I10: TAXI TRATAMIENTO TERMICO | M10: FECHA | N10: VALOR | O10: PERSONAS | P10: C/U | Q10: METALTRONICOS | R10: TOTAL
B11: 43290 | E11: =E10+C11+D11 -> 1808600 | F11: 2700 | I11: P&R NEUMATICA: RACOR RECTO M6x4mm
B12: 43290 | E12: =E11+C12+D12 -> 1808600 | F12: 16200 | I12: TIENDA MAKITA: INTERRUPTOR P/GA4534
B13: 43290 | E13: =E12+C13+D13 -> 1808600 | F13: 87050 | I13: IMPORTACIONES INTERTRAN: AEROGRAFO H.V.L.P
B14: 43290 | E14: =E13+C14+D14 -> 1808600 | F14: 25350 | I14: DICSON BOGOTA: RACOR RECTO M5x4mm
B15: 43290 | E15: =E14+C15+D15 -> 1808600 | F15: 40300 | I15: HEGO: PASADOR ELASTICO 5x50 X2, ORING NITRILO 213 X210
B16: 43290 | E16: =E15+C16+D16 -> 1808600 | F16: 39300 | I16: HERRATEC: INSERTO TORNEADO KORLOY
B17: 43290 | E17: =E16+C17+D17 -> 1808600 | F17: 96000 | I17: ACERTEMPLE TRATAMIENTO TERMICO
B18: 43291 | E18: =E17+C18+D18 -> 1808600 | F18: 25000 | I18: ZINTEPEC: ZINCADO 56 JUEGOS ENRIQUE 4X4
B19: 43291 | E19: =E18+C19+D19 -> 1808600 | F19: 176150 | I19: HERRATEC: INSERTO Y PORTAINSERTO INTERIORES
B20: 43292 | D20: -53000 | E20: =E19+C20+D20 -> 1755600 | F20: -53000 | I20: COMCEL ALBINA BORRERO | M20: 42795 | N20: 92300 | O20: 3 | P20: =N20/O20 -> 30766.667 | Q20: 2 | R20: =P20*Q20 -> 61533.333
B21: 43292 | D21: -74000 | E21: =E20+C21+D21 -> 1681600 | F21: -74000 | I21: COMCEL E.G. | M21: 42826 | N21: 90600 | O21: 3 | P21: =N21/O21 -> 30200 | Q21: 2 | R21: =P21*Q21 -> 60400
B22: 43292 | D22: -99000 | E22: =E21+C22+D22 -> 1582600 | F22: -99000 | I22: TELMEX ALBINA BORRERO | M22: 42856 | N22: 88600 | O22: 3 | P22: =N22/O22 -> 29533.333 | Q22: 2 | R22: =P22*Q22 -> 59066.667
